BEGIN:VCALENDAR
VERSION:2.0
PRODID:spatie/icalendar-generator
DESCRIPTION:Events from South Peninsula Hospital
X-WR-CALDESC:Events from South Peninsula Hospital
REFRESH-INTERVAL;VALUE=DURATION:PT1440M
X-PUBLISHED-TTL:PT1440M
BEGIN:VTIMEZONE
TZID:America/Anchorage
BEGIN:STANDARD
DTSTART:20151101T020000Z
TZOFFSETFROM:-0800
TZOFFSETTO:-0900
END:STANDARD
BEGIN:DAYLIGHT
DTSTART:20160313T020000Z
TZOFFSETFROM:-0900
TZOFFSETTO:-0800
END:DAYLIGHT
END:VTIMEZONE
BEGIN:VTIMEZONE
TZID:UTC
BEGIN:STANDARD
DTSTART:20250726T153812Z
TZOFFSETFROM:+0000
TZOFFSETTO:+0000
END:STANDARD
END:VTIMEZONE
BEGIN:VEVENT
UID:1233-116
DTSTAMP:20260422T153812Z
SUMMARY:24th Annual Safe and Healthy Kids Fair
LOCATION:
ORGANIZER;CN=Tundra Technologies:MAILTO:tom@tundratech.net
DTSTART;TZID=America/Anchorage:20160430T100000
DTEND;TZID=America/Anchorage:20160430T140000
X-ALT-DESC;FMTTYPE=TEXT/HTML:Welcome to the Safe and Healthy Kids Fair 2016
  &amp;nbsp\; Now including prizes\, activities and information for teens! Date
 : Saturday April 30th\, 2016 Time: 10:00 am - 2:00 pm Location: Homer High
  School Commons
CATEGORIES:Community Event
URL;VALUE=URI:https://www.sphosp.org/mc-events/24th-annual-safe-and-healthy
 -kids-fair-3/
METHOD:PUBLISH
END:VEVENT
END:VCALENDAR