BEGIN:VCALENDAR
VERSION:2.0
PRODID:spatie/icalendar-generator
DESCRIPTION:Events from South Peninsula Hospital
X-WR-CALDESC:Events from South Peninsula Hospital
REFRESH-INTERVAL;VALUE=DURATION:PT1440M
X-PUBLISHED-TTL:PT1440M
BEGIN:VTIMEZONE
TZID:America/Anchorage
BEGIN:STANDARD
DTSTART:20151101T020000Z
TZOFFSETFROM:-0800
TZOFFSETTO:-0900
END:STANDARD
BEGIN:DAYLIGHT
DTSTART:20160313T020000Z
TZOFFSETFROM:-0900
TZOFFSETTO:-0800
END:DAYLIGHT
END:VTIMEZONE
BEGIN:VTIMEZONE
TZID:UTC
BEGIN:STANDARD
DTSTART:20250726T225846Z
TZOFFSETFROM:+0000
TZOFFSETTO:+0000
END:STANDARD
END:VTIMEZONE
BEGIN:VEVENT
UID:1236-117
DTSTAMP:20260422T225846Z
SUMMARY:ICISF* Individual / Group Crisis Intervention - 3 day combined cour
 se
LOCATION:
ORGANIZER;CN=Tundra Technologies:MAILTO:tom@tundratech.net
DTSTART;TZID=America/Anchorage:20160430T080000
DTEND;TZID=America/Anchorage:20160430T180000
X-ALT-DESC;FMTTYPE=TEXT/HTML:Group Crisis Intervention program: is designed
  to present core elements of a comprehensive\, systematic and multi compon
 ent crisis intervention curriculum. The course teaches crisis intervention
  and Emergency Mental health skills such as demobilizations\, defusing\, a
 nd CISD.
CATEGORIES:Community Event
URL;VALUE=URI:https://www.sphosp.org/mc-events/icisf-individual-group-crisi
 s-intervention-3-day-combined-course/
METHOD:PUBLISH
END:VEVENT
END:VCALENDAR