BEGIN:VCALENDAR
VERSION:2.0
PRODID:spatie/icalendar-generator
DESCRIPTION:Events from South Peninsula Hospital
X-WR-CALDESC:Events from South Peninsula Hospital
REFRESH-INTERVAL;VALUE=DURATION:PT1440M
X-PUBLISHED-TTL:PT1440M
BEGIN:VTIMEZONE
TZID:America/Anchorage
BEGIN:STANDARD
DTSTART:20151101T020000Z
TZOFFSETFROM:-0800
TZOFFSETTO:-0900
END:STANDARD
BEGIN:DAYLIGHT
DTSTART:20160313T020000Z
TZOFFSETFROM:-0900
TZOFFSETTO:-0800
END:DAYLIGHT
END:VTIMEZONE
BEGIN:VTIMEZONE
TZID:UTC
BEGIN:STANDARD
DTSTART:20250726T174926Z
TZOFFSETFROM:+0000
TZOFFSETTO:+0000
END:STANDARD
END:VTIMEZONE
BEGIN:VEVENT
UID:1263-120
DTSTAMP:20260422T174926Z
SUMMARY:Opioid Overdose response training
LOCATION:
ORGANIZER;CN=Derotha Ferraro:MAILTO:dbf@sphosp.org
DTSTART;TZID=America/Anchorage:20160409T100000
DTEND;TZID=America/Anchorage:20160409T110000
X-ALT-DESC;FMTTYPE=TEXT/HTML:Do you have a friend or family member who uses
  opiate pain medication or heroin?  Do you know how to help them if they 
 experience an overdose?  Dr. Sarah Spencer\, board certified in Addiction
  Medicine\, is offering a one hour training on how to recognize signs of a
 n opioid overdose and what you can do&amp;hellip\;
CATEGORIES:Community Event
URL;VALUE=URI:https://www.sphosp.org/mc-events/opioid-overdose-response-tra
 ining/
METHOD:PUBLISH
END:VEVENT
END:VCALENDAR