BEGIN:VCALENDAR
VERSION:2.0
PRODID:spatie/icalendar-generator
DESCRIPTION:Events from South Peninsula Hospital
X-WR-CALDESC:Events from South Peninsula Hospital
REFRESH-INTERVAL;VALUE=DURATION:PT1440M
X-PUBLISHED-TTL:PT1440M
BEGIN:VTIMEZONE
TZID:America/Anchorage
BEGIN:STANDARD
DTSTART:20151101T020000Z
TZOFFSETFROM:-0800
TZOFFSETTO:-0900
END:STANDARD
BEGIN:DAYLIGHT
DTSTART:20160313T020000Z
TZOFFSETFROM:-0900
TZOFFSETTO:-0800
END:DAYLIGHT
BEGIN:STANDARD
DTSTART:20161106T020000Z
TZOFFSETFROM:-0800
TZOFFSETTO:-0900
END:STANDARD
END:VTIMEZONE
BEGIN:VTIMEZONE
TZID:UTC
BEGIN:STANDARD
DTSTART:20250726T142041Z
TZOFFSETFROM:+0000
TZOFFSETTO:+0000
END:STANDARD
END:VTIMEZONE
BEGIN:VEVENT
UID:1264-121
DTSTAMP:20260422T142041Z
SUMMARY:60th Anniversary Celebration
LOCATION:
ORGANIZER;CN=Tundra Technologies:MAILTO:tom@tundratech.net
DTSTART;TZID=America/Anchorage:20160709T110000
DTEND;TZID=America/Anchorage:20160709T140000
X-ALT-DESC;FMTTYPE=TEXT/HTML:July 9 11am-2pm 60th Anniversary Celebration T
 he public is invited to celebrate 60 years of care by your locally owned a
 nd operated hospital. Download our banner
CATEGORIES:Community Event
URL;VALUE=URI:https://www.sphosp.org/mc-events/60th-anniversary-celebration
 /
METHOD:PUBLISH
END:VEVENT
END:VCALENDAR