BEGIN:VCALENDAR
VERSION:2.0
PRODID:spatie/icalendar-generator
DESCRIPTION:Events from South Peninsula Hospital
X-WR-CALDESC:Events from South Peninsula Hospital
REFRESH-INTERVAL;VALUE=DURATION:PT1440M
X-PUBLISHED-TTL:PT1440M
BEGIN:VTIMEZONE
TZID:America/Anchorage
BEGIN:DAYLIGHT
DTSTART:20160313T020000Z
TZOFFSETFROM:-0900
TZOFFSETTO:-0800
END:DAYLIGHT
BEGIN:STANDARD
DTSTART:20161106T020000Z
TZOFFSETFROM:-0800
TZOFFSETTO:-0900
END:STANDARD
BEGIN:DAYLIGHT
DTSTART:20170312T020000Z
TZOFFSETFROM:-0900
TZOFFSETTO:-0800
END:DAYLIGHT
END:VTIMEZONE
BEGIN:VTIMEZONE
TZID:UTC
BEGIN:STANDARD
DTSTART:20250723T214147Z
TZOFFSETFROM:+0000
TZOFFSETTO:+0000
END:STANDARD
END:VTIMEZONE
BEGIN:VEVENT
UID:1266-123
DTSTAMP:20260419T214147Z
SUMMARY:Rotary Health Fair
LOCATION:
ORGANIZER;CN=Tundra Technologies:MAILTO:tom@tundratech.net
DTSTART;TZID=America/Anchorage:20161105T073000
DTEND;TZID=America/Anchorage:20161105T130000
X-ALT-DESC;FMTTYPE=TEXT/HTML:2016 Rotary Health Fair\, one-stop shopping fo
 r all your health and wellness needs.  Free and reduced rate screenings\,
  information\, demonstrations and more! Sponsored by Homer Kachemak Bay Ro
 tary\, in cooperation with South Peninsula Hospital.
CATEGORIES:Community Event
URL;VALUE=URI:https://www.sphosp.org/mc-events/rotary-health-fair-2/
METHOD:PUBLISH
END:VEVENT
END:VCALENDAR