BEGIN:VCALENDAR
VERSION:2.0
PRODID:spatie/icalendar-generator
DESCRIPTION:Events from South Peninsula Hospital
X-WR-CALDESC:Events from South Peninsula Hospital
REFRESH-INTERVAL;VALUE=DURATION:PT1440M
X-PUBLISHED-TTL:PT1440M
BEGIN:VTIMEZONE
TZID:America/Anchorage
BEGIN:DAYLIGHT
DTSTART:20160313T020000Z
TZOFFSETFROM:-0900
TZOFFSETTO:-0800
END:DAYLIGHT
BEGIN:STANDARD
DTSTART:20161106T020000Z
TZOFFSETFROM:-0800
TZOFFSETTO:-0900
END:STANDARD
BEGIN:DAYLIGHT
DTSTART:20170312T020000Z
TZOFFSETFROM:-0900
TZOFFSETTO:-0800
END:DAYLIGHT
END:VTIMEZONE
BEGIN:VTIMEZONE
TZID:UTC
BEGIN:STANDARD
DTSTART:20250724T074333Z
TZOFFSETFROM:+0000
TZOFFSETTO:+0000
END:STANDARD
END:VTIMEZONE
BEGIN:VEVENT
UID:1269-126
DTSTAMP:20260420T074333Z
SUMMARY:Mindful Families &amp;amp\; Mindful Schools
LOCATION:
ORGANIZER;CN=Tundra Technologies:MAILTO:tom@tundratech.net
DTSTART;TZID=America/Anchorage:20160920T173000
DTEND;TZID=America/Anchorage:20160920T193000
X-ALT-DESC;FMTTYPE=TEXT/HTML:Mini-workshop for parents\, teachers\, and any
 one wanting to help students increase focus &amp;amp\; lower stress! Childcare
  available. Food provided. Event is free. For Childcare: RSVP by noon 9/20
  @ 235-6044. Space is Limited! Call SPROUT - 907.235.6044 A Week of Mindfu
 lness Community Events in Homer - Flyer
CATEGORIES:Community Event
URL;VALUE=URI:https://www.sphosp.org/mc-events/mindful-families-mindful-sch
 ools/
METHOD:PUBLISH
END:VEVENT
END:VCALENDAR