BEGIN:VCALENDAR
VERSION:2.0
PRODID:spatie/icalendar-generator
DESCRIPTION:Events from South Peninsula Hospital
X-WR-CALDESC:Events from South Peninsula Hospital
REFRESH-INTERVAL;VALUE=DURATION:PT1440M
X-PUBLISHED-TTL:PT1440M
BEGIN:VTIMEZONE
TZID:America/Anchorage
BEGIN:DAYLIGHT
DTSTART:20160313T020000Z
TZOFFSETFROM:-0900
TZOFFSETTO:-0800
END:DAYLIGHT
BEGIN:STANDARD
DTSTART:20161106T020000Z
TZOFFSETFROM:-0800
TZOFFSETTO:-0900
END:STANDARD
BEGIN:DAYLIGHT
DTSTART:20170312T020000Z
TZOFFSETFROM:-0900
TZOFFSETTO:-0800
END:DAYLIGHT
END:VTIMEZONE
BEGIN:VTIMEZONE
TZID:UTC
BEGIN:STANDARD
DTSTART:20250724T061433Z
TZOFFSETFROM:+0000
TZOFFSETTO:+0000
END:STANDARD
END:VTIMEZONE
BEGIN:VEVENT
UID:1270-127
DTSTAMP:20260420T061433Z
SUMMARY:Mindful Paths to Wellness
LOCATION:Homer Council on the Arts
ORGANIZER;CN=Tundra Technologies:MAILTO:tom@tundratech.net
DTSTART;TZID=America/Anchorage:20160923T173000
DTEND;TZID=America/Anchorage:20160923T193000
X-ALT-DESC;FMTTYPE=TEXT/HTML:Mindful Paths to Wellness - Intro by Dr. Rob D
 owney\, SPH Functional Medicine Clinic. Food provided. Event by donation. 
 A Week of Mindfulness Community Events in Homer - Flyer Call 235-0285 for 
 more information.
CATEGORIES:Community Event
URL;VALUE=URI:https://www.sphosp.org/mc-events/mindful-paths-to-wellness/
METHOD:PUBLISH
END:VEVENT
END:VCALENDAR