BEGIN:VCALENDAR
VERSION:2.0
PRODID:spatie/icalendar-generator
DESCRIPTION:Events from South Peninsula Hospital
X-WR-CALDESC:Events from South Peninsula Hospital
REFRESH-INTERVAL;VALUE=DURATION:PT1440M
X-PUBLISHED-TTL:PT1440M
BEGIN:VTIMEZONE
TZID:America/Anchorage
BEGIN:DAYLIGHT
DTSTART:20160313T020000Z
TZOFFSETFROM:-0900
TZOFFSETTO:-0800
END:DAYLIGHT
BEGIN:STANDARD
DTSTART:20161106T020000Z
TZOFFSETFROM:-0800
TZOFFSETTO:-0900
END:STANDARD
BEGIN:DAYLIGHT
DTSTART:20170312T020000Z
TZOFFSETFROM:-0900
TZOFFSETTO:-0800
END:DAYLIGHT
END:VTIMEZONE
BEGIN:VTIMEZONE
TZID:UTC
BEGIN:STANDARD
DTSTART:20250723T194608Z
TZOFFSETFROM:+0000
TZOFFSETTO:+0000
END:STANDARD
END:VTIMEZONE
BEGIN:VEVENT
UID:1282-139
DTSTAMP:20260419T194608Z
SUMMARY:Great Candy Exchange
LOCATION:Homer High School
ORGANIZER;CN=Tundra Technologies:MAILTO:tom@tundratech.net
DTSTART;TZID=America/Anchorage:20161105T073000
DTEND;TZID=America/Anchorage:20161105T130000
X-ALT-DESC;FMTTYPE=TEXT/HTML:Great Candy Exchange - Kids 10 and under can t
 rade their Halloween candy for fabulous prizes at the Great Candy Exchange
  on Saturday\, Nov. 5 at the Rotary Health Fair at Homer High School from 
 7:30am – 1:00pm. The candy collected will be sent in holiday care packag
 es to deployed U.S. service men and women!&amp;hellip\;
CATEGORIES:Community Event
URL;VALUE=URI:https://www.sphosp.org/mc-events/great-candy-exchange-2/
METHOD:PUBLISH
END:VEVENT
END:VCALENDAR