BEGIN:VCALENDAR
VERSION:2.0
PRODID:spatie/icalendar-generator
DESCRIPTION:Events from South Peninsula Hospital
X-WR-CALDESC:Events from South Peninsula Hospital
REFRESH-INTERVAL;VALUE=DURATION:PT1440M
X-PUBLISHED-TTL:PT1440M
BEGIN:VTIMEZONE
TZID:America/Anchorage
BEGIN:STANDARD
DTSTART:20161106T020000Z
TZOFFSETFROM:-0800
TZOFFSETTO:-0900
END:STANDARD
BEGIN:DAYLIGHT
DTSTART:20170312T020000Z
TZOFFSETFROM:-0900
TZOFFSETTO:-0800
END:DAYLIGHT
END:VTIMEZONE
BEGIN:VTIMEZONE
TZID:UTC
BEGIN:STANDARD
DTSTART:20250723T140209Z
TZOFFSETFROM:+0000
TZOFFSETTO:+0000
END:STANDARD
END:VTIMEZONE
BEGIN:VEVENT
UID:1296-143
DTSTAMP:20260419T140209Z
SUMMARY:POSTPONED until March 29.What is Functional Medicine?  Rob Downey\
 , MD\, IFMCP
LOCATION:
ORGANIZER;CN=Tundra Technologies:MAILTO:tom@tundratech.net
DTSTART;TZID=America/Anchorage:20170215T180000
DTEND;TZID=America/Anchorage:20170215T190000
X-ALT-DESC;FMTTYPE=TEXT/HTML:<p>Please join SPH Functional Medicine Clinic 
 for a kick-off community education event! Watch an<br />\nexciting\, short
  video presentation about Functional Medicine followed by a Q &amp;amp\; A ses
 sion with Dr. Rob Downey\, clinic director.</p>\n
CATEGORIES:Community Event
URL;VALUE=URI:https://www.sphosp.org/mc-events/postponed-until-march-29-wha
 t-is-functional-medicine-rob-downey-md-ifmcp/
METHOD:PUBLISH
END:VEVENT
END:VCALENDAR