BEGIN:VCALENDAR
VERSION:2.0
PRODID:spatie/icalendar-generator
DESCRIPTION:Events from South Peninsula Hospital
X-WR-CALDESC:Events from South Peninsula Hospital
REFRESH-INTERVAL;VALUE=DURATION:PT1440M
X-PUBLISHED-TTL:PT1440M
BEGIN:VTIMEZONE
TZID:America/Anchorage
BEGIN:STANDARD
DTSTART:20161106T020000Z
TZOFFSETFROM:-0800
TZOFFSETTO:-0900
END:STANDARD
BEGIN:DAYLIGHT
DTSTART:20170312T020000Z
TZOFFSETFROM:-0900
TZOFFSETTO:-0800
END:DAYLIGHT
END:VTIMEZONE
BEGIN:VTIMEZONE
TZID:UTC
BEGIN:STANDARD
DTSTART:20250723T143536Z
TZOFFSETFROM:+0000
TZOFFSETTO:+0000
END:STANDARD
END:VTIMEZONE
BEGIN:VEVENT
UID:1297-144
DTSTAMP:20260419T143536Z
SUMMARY:Farewell and Thank You Dr. Wiest!
LOCATION:
ORGANIZER;CN=Tundra Technologies:MAILTO:tom@tundratech.net
DTSTART;TZID=America/Anchorage:20170331T173000
DTEND;TZID=America/Anchorage:20170331T193000
X-ALT-DESC;FMTTYPE=TEXT/HTML:Randy Wiest\, MD\, board certified family prac
 tice physician at Homer Medical Center\, is retiring from his medical prac
 tice at the clinic at the end of this month.  Dr. Wiest has practiced her
 e for twenty years\, providing care for all stages of life.  He has been 
 a member of Active Medical Staff at South Peninsula Hospital&amp;hellip\;
CATEGORIES:Community Event
URL;VALUE=URI:https://www.sphosp.org/mc-events/farewell-and-thank-you-dr-wi
 est/
METHOD:PUBLISH
END:VEVENT
END:VCALENDAR