BEGIN:VCALENDAR
VERSION:2.0
PRODID:spatie/icalendar-generator
DESCRIPTION:Events from South Peninsula Hospital
X-WR-CALDESC:Events from South Peninsula Hospital
REFRESH-INTERVAL;VALUE=DURATION:PT1440M
X-PUBLISHED-TTL:PT1440M
BEGIN:VTIMEZONE
TZID:America/Anchorage
BEGIN:DAYLIGHT
DTSTART:20170312T020000Z
TZOFFSETFROM:-0900
TZOFFSETTO:-0800
END:DAYLIGHT
BEGIN:STANDARD
DTSTART:20171105T020000Z
TZOFFSETFROM:-0800
TZOFFSETTO:-0900
END:STANDARD
BEGIN:DAYLIGHT
DTSTART:20180311T020000Z
TZOFFSETFROM:-0900
TZOFFSETTO:-0800
END:DAYLIGHT
END:VTIMEZONE
BEGIN:VTIMEZONE
TZID:UTC
BEGIN:STANDARD
DTSTART:20250725T092850Z
TZOFFSETFROM:+0000
TZOFFSETTO:+0000
END:STANDARD
END:VTIMEZONE
BEGIN:VEVENT
UID:1310-153
DTSTAMP:20260421T092850Z
SUMMARY:Health Fair booth application deadline
LOCATION:
ORGANIZER;CN=Tundra Technologies:MAILTO:tom@tundratech.net
DTSTART;TZID=America/Anchorage;VALUE=DATE:20170909
DTEND;TZID=America/Anchorage;VALUE=DATE:20170910
X-ALT-DESC;FMTTYPE=TEXT/HTML:The Homer Kachemak Bay Rotary Club in partners
 hip with South Peninsula Hospital invites exhibitors to apply for booth sp
 ace at the 33nd annual Rotary Health Fair. The purpose of the fair is to 
 promote individual wellness\, share health information and to encourage i
 n healthy lifestyle choices. The Rotary Health Fair invites exhibitors to 
 provide learning centers to educate&amp;hellip\;
CATEGORIES:
URL;VALUE=URI:https://www.sphosp.org/mc-events/health-fair-booth-applicatio
 n-deadline/
METHOD:PUBLISH
END:VEVENT
END:VCALENDAR