BEGIN:VCALENDAR
VERSION:2.0
PRODID:spatie/icalendar-generator
DESCRIPTION:Events from South Peninsula Hospital
X-WR-CALDESC:Events from South Peninsula Hospital
REFRESH-INTERVAL;VALUE=DURATION:PT1440M
X-PUBLISHED-TTL:PT1440M
BEGIN:VTIMEZONE
TZID:America/Anchorage
BEGIN:DAYLIGHT
DTSTART:20170312T020000Z
TZOFFSETFROM:-0900
TZOFFSETTO:-0800
END:DAYLIGHT
BEGIN:STANDARD
DTSTART:20171105T020000Z
TZOFFSETFROM:-0800
TZOFFSETTO:-0900
END:STANDARD
BEGIN:DAYLIGHT
DTSTART:20180311T020000Z
TZOFFSETFROM:-0900
TZOFFSETTO:-0800
END:DAYLIGHT
END:VTIMEZONE
BEGIN:VTIMEZONE
TZID:UTC
BEGIN:STANDARD
DTSTART:20250725T124600Z
TZOFFSETFROM:+0000
TZOFFSETTO:+0000
END:STANDARD
END:VTIMEZONE
BEGIN:VEVENT
UID:1322-163
DTSTAMP:20260421T124600Z
SUMMARY:Mary Lou Kelsey's Retirement Party!
LOCATION:
ORGANIZER;CN=Tundra Technologies:MAILTO:tom@tundratech.net
DTSTART;TZID=America/Anchorage:20171013T170000
DTEND;TZID=America/Anchorage:20171013T210000
X-ALT-DESC;FMTTYPE=TEXT/HTML:Friday\, October 13 5-9pm Best Western Bidarka
  Inn upstairs Come celebrate and reminisce Mary Lou's 35 years of midwifer
 y care\, and more than a thousand babies born into her arms!  Bring your 
 photos\, written memories or mementos to add to her Keepsake Box.
CATEGORIES:Community Event
URL;VALUE=URI:https://www.sphosp.org/mc-events/mary-lou-kelseys-retirement-
 party/
METHOD:PUBLISH
END:VEVENT
END:VCALENDAR