BEGIN:VCALENDAR
VERSION:2.0
PRODID:spatie/icalendar-generator
DESCRIPTION:Events from South Peninsula Hospital
X-WR-CALDESC:Events from South Peninsula Hospital
REFRESH-INTERVAL;VALUE=DURATION:PT1440M
X-PUBLISHED-TTL:PT1440M
BEGIN:VTIMEZONE
TZID:America/Anchorage
BEGIN:DAYLIGHT
DTSTART:20170312T020000Z
TZOFFSETFROM:-0900
TZOFFSETTO:-0800
END:DAYLIGHT
BEGIN:STANDARD
DTSTART:20171105T020000Z
TZOFFSETFROM:-0800
TZOFFSETTO:-0900
END:STANDARD
BEGIN:DAYLIGHT
DTSTART:20180311T020000Z
TZOFFSETFROM:-0900
TZOFFSETTO:-0800
END:DAYLIGHT
END:VTIMEZONE
BEGIN:VTIMEZONE
TZID:UTC
BEGIN:STANDARD
DTSTART:20250727T114553Z
TZOFFSETFROM:+0000
TZOFFSETTO:+0000
END:STANDARD
END:VTIMEZONE
BEGIN:VEVENT
UID:1325-162
DTSTAMP:20260423T114553Z
SUMMARY:Kid’s Walk-In Flu Shot Clinic &amp;amp\; Great Candy Exchange
LOCATION:
ORGANIZER;CN=Tundra Technologies:MAILTO:tom@tundratech.net
DTSTART;TZID=America/Anchorage:20171103T160000
DTEND;TZID=America/Anchorage:20171103T190000
X-ALT-DESC;FMTTYPE=TEXT/HTML:No appointment necessary! 4pm – 7pm Friday\,
  Nov. 3 at Homer Medical Center\, 4136 Bartlett St. This is for flu shots 
 only.  Appointments are necessary for other vaccinations and health conce
 rns. Open to all children under 18!  A $27 administration fee will be bil
 led to insurance providers\, but there will be no charge for those&amp;hellip\
 ;
CATEGORIES:Community Event
URL;VALUE=URI:https://www.sphosp.org/mc-events/kids-walk-in-flu-shot-clinic
 -great-candy-exchange/
METHOD:PUBLISH
END:VEVENT
END:VCALENDAR