BEGIN:VCALENDAR
VERSION:2.0
PRODID:spatie/icalendar-generator
DESCRIPTION:Events from South Peninsula Hospital
X-WR-CALDESC:Events from South Peninsula Hospital
REFRESH-INTERVAL;VALUE=DURATION:PT1440M
X-PUBLISHED-TTL:PT1440M
BEGIN:VTIMEZONE
TZID:America/Anchorage
BEGIN:DAYLIGHT
DTSTART:20170312T020000Z
TZOFFSETFROM:-0900
TZOFFSETTO:-0800
END:DAYLIGHT
BEGIN:STANDARD
DTSTART:20171105T020000Z
TZOFFSETFROM:-0800
TZOFFSETTO:-0900
END:STANDARD
BEGIN:DAYLIGHT
DTSTART:20180311T020000Z
TZOFFSETFROM:-0900
TZOFFSETTO:-0800
END:DAYLIGHT
END:VTIMEZONE
BEGIN:VTIMEZONE
TZID:UTC
BEGIN:STANDARD
DTSTART:20250725T120847Z
TZOFFSETFROM:+0000
TZOFFSETTO:+0000
END:STANDARD
END:VTIMEZONE
BEGIN:VEVENT
UID:1326-166
DTSTAMP:20260421T120847Z
SUMMARY:December Walk with a Doc! with Dr. Katie Ostrom
LOCATION:
ORGANIZER;CN=Tundra Technologies:MAILTO:tom@tundratech.net
DTSTART;TZID=America/Anchorage:20171202T090000
DTEND;TZID=America/Anchorage:20171202T100000
X-ALT-DESC;FMTTYPE=TEXT/HTML:Join Dr. Katie Ostrom for our next \"Walk with
  a DOC\" - Talk Topic: New Concepts in Treating Menopausal Symptoms.\" At 
 SPARC - South Peninsula Athletic &amp;amp\; Recreation Center\, 600 Sterling H
 wy (next to Homer Middle School). Listen and learn for a minutes\, and spe
 nd the rest of the hour walking at your own pace&amp;hellip\;
CATEGORIES:Community Event
URL;VALUE=URI:https://www.sphosp.org/mc-events/december-walk-with-a-doc-wit
 h-dr-katie-ostrom-11/
METHOD:PUBLISH
END:VEVENT
END:VCALENDAR