BEGIN:VCALENDAR
VERSION:2.0
PRODID:spatie/icalendar-generator
DESCRIPTION:Events from South Peninsula Hospital
X-WR-CALDESC:Events from South Peninsula Hospital
REFRESH-INTERVAL;VALUE=DURATION:PT1440M
X-PUBLISHED-TTL:PT1440M
BEGIN:VTIMEZONE
TZID:America/Anchorage
BEGIN:DAYLIGHT
DTSTART:20180311T020000Z
TZOFFSETFROM:-0900
TZOFFSETTO:-0800
END:DAYLIGHT
BEGIN:STANDARD
DTSTART:20181104T020000Z
TZOFFSETFROM:-0800
TZOFFSETTO:-0900
END:STANDARD
BEGIN:DAYLIGHT
DTSTART:20190310T020000Z
TZOFFSETFROM:-0900
TZOFFSETTO:-0800
END:DAYLIGHT
END:VTIMEZONE
BEGIN:VTIMEZONE
TZID:UTC
BEGIN:STANDARD
DTSTART:20250725T035111Z
TZOFFSETFROM:+0000
TZOFFSETTO:+0000
END:STANDARD
END:VTIMEZONE
BEGIN:VEVENT
UID:1341-181
DTSTAMP:20260421T035111Z
SUMMARY:American Heart Association CPR/AED
LOCATION:
ORGANIZER;CN=Tundra Technologies:MAILTO:tom@tundratech.net
DTSTART;TZID=America/Anchorage:20181102T130000
DTEND;TZID=America/Anchorage:20181102T160000
X-ALT-DESC;FMTTYPE=TEXT/HTML:<p>HeartSaver CPR/AED Classes from 8AM-12PM an
 d HeartSaver First Aid from 1PM-4PM.  All classes are held at the South Pe
 ninsula Hospital Training Center at 203 W. Pioneer. Registration required 
 - please call the South Peninsula Hospital Education Department at 235-025
 8.</p>\n
CATEGORIES:Community Event
URL;VALUE=URI:https://www.sphosp.org/mc-events/american-heart-association-c
 pr-aed-and-first-aid-classes-12/
METHOD:PUBLISH
END:VEVENT
END:VCALENDAR