BEGIN:VCALENDAR
VERSION:2.0
PRODID:spatie/icalendar-generator
DESCRIPTION:Events from South Peninsula Hospital
X-WR-CALDESC:Events from South Peninsula Hospital
REFRESH-INTERVAL;VALUE=DURATION:PT1440M
X-PUBLISHED-TTL:PT1440M
BEGIN:VTIMEZONE
TZID:America/Anchorage
BEGIN:STANDARD
DTSTART:20171105T020000Z
TZOFFSETFROM:-0800
TZOFFSETTO:-0900
END:STANDARD
BEGIN:DAYLIGHT
DTSTART:20180311T020000Z
TZOFFSETFROM:-0900
TZOFFSETTO:-0800
END:DAYLIGHT
END:VTIMEZONE
BEGIN:VTIMEZONE
TZID:UTC
BEGIN:STANDARD
DTSTART:20250726T100800Z
TZOFFSETFROM:+0000
TZOFFSETTO:+0000
END:STANDARD
END:VTIMEZONE
BEGIN:VEVENT
UID:1360-196
DTSTAMP:20260422T100800Z
SUMMARY:Safe Sitter Class
LOCATION:
ORGANIZER;CN=Tundra Technologies:MAILTO:tom@tundratech.net
DTSTART;TZID=America/Anchorage:20180209T090000
DTEND;TZID=America/Anchorage:20180209T160000
X-ALT-DESC;FMTTYPE=TEXT/HTML:<p>Safe Sitter Course for grades 6-8 on Friday
 \, February 9th. Preregistration by February 7 required - call (907) 235-0
 970 or email wellness@sphosp.org to register or for more information.</p>\
 n
CATEGORIES:Community Event
URL;VALUE=URI:https://www.sphosp.org/mc-events/safe-sitter-class/
METHOD:PUBLISH
END:VEVENT
END:VCALENDAR