BEGIN:VCALENDAR
VERSION:2.0
PRODID:spatie/icalendar-generator
DESCRIPTION:Events from South Peninsula Hospital
X-WR-CALDESC:Events from South Peninsula Hospital
REFRESH-INTERVAL;VALUE=DURATION:PT1440M
X-PUBLISHED-TTL:PT1440M
BEGIN:VTIMEZONE
TZID:America/Anchorage
BEGIN:STANDARD
DTSTART:20171105T020000Z
TZOFFSETFROM:-0800
TZOFFSETTO:-0900
END:STANDARD
BEGIN:DAYLIGHT
DTSTART:20180311T020000Z
TZOFFSETFROM:-0900
TZOFFSETTO:-0800
END:DAYLIGHT
END:VTIMEZONE
BEGIN:VTIMEZONE
TZID:UTC
BEGIN:STANDARD
DTSTART:20250726T051058Z
TZOFFSETFROM:+0000
TZOFFSETTO:+0000
END:STANDARD
END:VTIMEZONE
BEGIN:VEVENT
UID:1372-199
DTSTAMP:20260422T051058Z
SUMMARY:South Peninsula Hospital Monthly Board of Directors Meeting
LOCATION:South Peninsula Hospital Conference Rooms 1 &amp; 2 4300 Bartlett Stre
 et  Homer
ORGANIZER;CN=Tundra Technologies:MAILTO:tom@tundratech.net
DTSTART;TZID=America/Anchorage:20180124T190000
DTEND;TZID=America/Anchorage:20180124T210000
X-ALT-DESC;FMTTYPE=TEXT/HTML:<p>Monthly Board meetings are held every fourt
 h Wednesday of the month at 7:00pm in the hospital’s conference room. Th
 e public is welcome.</p>\n
CATEGORIES:Community Event
URL;VALUE=URI:https://www.sphosp.org/mc-events/south-peninsula-hospital-mon
 thly-board-of-directors-meeting-3/
METHOD:PUBLISH
END:VEVENT
END:VCALENDAR