BEGIN:VCALENDAR
VERSION:2.0
PRODID:spatie/icalendar-generator
DESCRIPTION:Events from South Peninsula Hospital
X-WR-CALDESC:Events from South Peninsula Hospital
REFRESH-INTERVAL;VALUE=DURATION:PT1440M
X-PUBLISHED-TTL:PT1440M
BEGIN:VTIMEZONE
TZID:America/Anchorage
BEGIN:STANDARD
DTSTART:20171105T020000Z
TZOFFSETFROM:-0800
TZOFFSETTO:-0900
END:STANDARD
BEGIN:DAYLIGHT
DTSTART:20180311T020000Z
TZOFFSETFROM:-0900
TZOFFSETTO:-0800
END:DAYLIGHT
END:VTIMEZONE
BEGIN:VTIMEZONE
TZID:UTC
BEGIN:STANDARD
DTSTART:20250726T221054Z
TZOFFSETFROM:+0000
TZOFFSETTO:+0000
END:STANDARD
END:VTIMEZONE
BEGIN:VEVENT
UID:1382-204
DTSTAMP:20260422T221054Z
SUMMARY:Walk with a Doc! with Dr. Todd Boling - \"Healthy Weight Loss\"
LOCATION:
ORGANIZER;CN=Tundra Technologies:MAILTO:tom@tundratech.net
DTSTART;TZID=America/Anchorage:20180421T090000
DTEND;TZID=America/Anchorage:20180421T100000
X-ALT-DESC;FMTTYPE=TEXT/HTML:<p>Walk with a Doc is a nationwide walking pro
 gram for everyone interested in taking steps for a healthier lifestyle. Wh
 at better way to start your weekend than on your feet making strides to he
 lp your heart and improving your general health to live longer! While you 
 walk at your own pace\, you’ll have the opportunity to have questions an
 swered by local physicians.</p>\n
CATEGORIES:Community Event
URL;VALUE=URI:https://www.sphosp.org/mc-events/walk-with-a-doc-with-dr-todd
 -boling-healthy-weight-loss/
METHOD:PUBLISH
END:VEVENT
END:VCALENDAR