BEGIN:VCALENDAR
VERSION:2.0
PRODID:spatie/icalendar-generator
DESCRIPTION:Events from South Peninsula Hospital
X-WR-CALDESC:Events from South Peninsula Hospital
REFRESH-INTERVAL;VALUE=DURATION:PT1440M
X-PUBLISHED-TTL:PT1440M
BEGIN:VTIMEZONE
TZID:America/Anchorage
BEGIN:STANDARD
DTSTART:20171105T020000Z
TZOFFSETFROM:-0800
TZOFFSETTO:-0900
END:STANDARD
BEGIN:DAYLIGHT
DTSTART:20180311T020000Z
TZOFFSETFROM:-0900
TZOFFSETTO:-0800
END:DAYLIGHT
BEGIN:STANDARD
DTSTART:20181104T020000Z
TZOFFSETFROM:-0800
TZOFFSETTO:-0900
END:STANDARD
END:VTIMEZONE
BEGIN:VTIMEZONE
TZID:UTC
BEGIN:STANDARD
DTSTART:20250727T015236Z
TZOFFSETFROM:+0000
TZOFFSETTO:+0000
END:STANDARD
END:VTIMEZONE
BEGIN:VEVENT
UID:1383-205
DTSTAMP:20260423T015236Z
SUMMARY:Walk with a Doc! with Devry Garity\, PNP - \"Hiding in Plain Sight:
  Unrecognized Symptoms of Asthma in Kids\"
LOCATION:
ORGANIZER;CN=Tundra Technologies:MAILTO:tom@tundratech.net
DTSTART;TZID=America/Anchorage:20180505T090000
DTEND;TZID=America/Anchorage:20180505T100000
X-ALT-DESC;FMTTYPE=TEXT/HTML:<p>Walk with a Doc is a nationwide walking pro
 gram for everyone interested in taking steps for a healthier lifestyle. Wh
 at better way to start your weekend than on your feet making strides to he
 lp your heart and improving your general health to live longer! While you 
 walk at your own pace\, you’ll have the opportunity to have questions an
 swered by local physicians.</p>\n
CATEGORIES:Community Event
URL;VALUE=URI:https://www.sphosp.org/mc-events/walk-with-a-doc-with-devry-g
 arity-pnp-hiding-in-plain-sight-unrecognized-symptoms-of-asthma-in-kids/
METHOD:PUBLISH
END:VEVENT
END:VCALENDAR