BEGIN:VCALENDAR
VERSION:2.0
PRODID:spatie/icalendar-generator
DESCRIPTION:Events from South Peninsula Hospital
X-WR-CALDESC:Events from South Peninsula Hospital
REFRESH-INTERVAL;VALUE=DURATION:PT1440M
X-PUBLISHED-TTL:PT1440M
BEGIN:VTIMEZONE
TZID:America/Anchorage
BEGIN:DAYLIGHT
DTSTART:20180311T020000Z
TZOFFSETFROM:-0900
TZOFFSETTO:-0800
END:DAYLIGHT
BEGIN:STANDARD
DTSTART:20181104T020000Z
TZOFFSETFROM:-0800
TZOFFSETTO:-0900
END:STANDARD
END:VTIMEZONE
BEGIN:VTIMEZONE
TZID:UTC
BEGIN:STANDARD
DTSTART:20250727T212124Z
TZOFFSETFROM:+0000
TZOFFSETTO:+0000
END:STANDARD
END:VTIMEZONE
BEGIN:VEVENT
UID:1389-211
DTSTAMP:20260423T212124Z
SUMMARY:Walk with a Doc! with Dr. Larry Lawson\, Medical Oncologist and Hem
 atologist on Respiratory Cancers - Prevention &amp;amp\; New Treatment Options
LOCATION:
ORGANIZER;CN=Tundra Technologies:MAILTO:tom@tundratech.net
DTSTART;TZID=America/Anchorage:20180804T090000
DTEND;TZID=America/Anchorage:20180804T100000
X-ALT-DESC;FMTTYPE=TEXT/HTML:<p>Walk with a Doc is a nationwide walking pro
 gram for everyone interested in taking steps for a healthier lifestyle. Wh
 at better way to start your weekend than on your feet making strides to he
 lp your heart and improving your general health to live longer! While you 
 walk at your own pace\, you’ll have the opportunity to have questions an
 swered by local physicians.</p>\n
CATEGORIES:Community Event
URL;VALUE=URI:https://www.sphosp.org/mc-events/walk-with-a-doc-with-dr-larr
 y-lawson-medical-oncologist-and-hematologist-on-respiratory-cancers-preven
 tion-new-treatment-options/
METHOD:PUBLISH
END:VEVENT
END:VCALENDAR