BEGIN:VCALENDAR
VERSION:2.0
PRODID:spatie/icalendar-generator
DESCRIPTION:Events from South Peninsula Hospital
X-WR-CALDESC:Events from South Peninsula Hospital
REFRESH-INTERVAL;VALUE=DURATION:PT1440M
X-PUBLISHED-TTL:PT1440M
BEGIN:VTIMEZONE
TZID:America/Anchorage
BEGIN:STANDARD
DTSTART:20171105T020000Z
TZOFFSETFROM:-0800
TZOFFSETTO:-0900
END:STANDARD
BEGIN:DAYLIGHT
DTSTART:20180311T020000Z
TZOFFSETFROM:-0900
TZOFFSETTO:-0800
END:DAYLIGHT
END:VTIMEZONE
BEGIN:VTIMEZONE
TZID:UTC
BEGIN:STANDARD
DTSTART:20250727T052212Z
TZOFFSETFROM:+0000
TZOFFSETTO:+0000
END:STANDARD
END:VTIMEZONE
BEGIN:VEVENT
UID:1392-214
DTSTAMP:20260423T052212Z
SUMMARY:Safe &amp;amp\; Healthy Kids Fair!
LOCATION:
ORGANIZER;CN=Tundra Technologies:MAILTO:tom@tundratech.net
DTSTART;TZID=America/Anchorage:20180428T100000
DTEND;TZID=America/Anchorage:20180428T140000
X-ALT-DESC;FMTTYPE=TEXT/HTML:The annual Safe and Healthy Kids Fair is set f
 or Saturday\, April 28 from 10am-2pm in the Homer High School commons. Thi
 s is a free\, fun event for children of all ages to focus on safety\, heal
 th and wellness. The fair offers more than 30 booths and stations with han
 ds on activities and demonstrations. Loads&amp;hellip\;
CATEGORIES:Community Event
URL;VALUE=URI:https://www.sphosp.org/mc-events/safe-healthy-kids-fair-2/
METHOD:PUBLISH
END:VEVENT
END:VCALENDAR