BEGIN:VCALENDAR
VERSION:2.0
PRODID:spatie/icalendar-generator
DESCRIPTION:Events from South Peninsula Hospital
X-WR-CALDESC:Events from South Peninsula Hospital
REFRESH-INTERVAL;VALUE=DURATION:PT1440M
X-PUBLISHED-TTL:PT1440M
BEGIN:VTIMEZONE
TZID:America/Anchorage
BEGIN:STANDARD
DTSTART:20171105T020000Z
TZOFFSETFROM:-0800
TZOFFSETTO:-0900
END:STANDARD
BEGIN:DAYLIGHT
DTSTART:20180311T020000Z
TZOFFSETFROM:-0900
TZOFFSETTO:-0800
END:DAYLIGHT
BEGIN:STANDARD
DTSTART:20181104T020000Z
TZOFFSETFROM:-0800
TZOFFSETTO:-0900
END:STANDARD
END:VTIMEZONE
BEGIN:VTIMEZONE
TZID:UTC
BEGIN:STANDARD
DTSTART:20250727T070035Z
TZOFFSETFROM:+0000
TZOFFSETTO:+0000
END:STANDARD
END:VTIMEZONE
BEGIN:VEVENT
UID:1393-215
DTSTAMP:20260423T070035Z
SUMMARY:The Silent Killer: Inflammation - The impact of sugar and insulin r
 esistance with Rob Downey\, MD\, IFMCP
LOCATION:
ORGANIZER;CN=Tundra Technologies:MAILTO:tom@tundratech.net
DTSTART;TZID=America/Anchorage:20180507T180000
DTEND;TZID=America/Anchorage:20180507T190000
X-ALT-DESC;FMTTYPE=TEXT/HTML:What triggers inflammation? Join Dr. Downey to
  learn about sugar and insulin resistance\, one of the key drivers of infl
 ammation. Part of the Functional Medicine Community Education Series\, thi
 s event is free and open to the public! Monday\, May 7th from 6-7PM at Kac
 hemak Bay Campus\, Pioneer Hall P202 at 533 Pioneer Ave. For more&amp;hellip\;
CATEGORIES:Community Event
URL;VALUE=URI:https://www.sphosp.org/mc-events/the-silent-killer-inflammati
 on-the-impact-of-sugar-and-insulin-resistance-with-rob-downey-md-ifmcp/
METHOD:PUBLISH
END:VEVENT
END:VCALENDAR