BEGIN:VCALENDAR
VERSION:2.0
PRODID:spatie/icalendar-generator
DESCRIPTION:Events from South Peninsula Hospital
X-WR-CALDESC:Events from South Peninsula Hospital
REFRESH-INTERVAL;VALUE=DURATION:PT1440M
X-PUBLISHED-TTL:PT1440M
BEGIN:VTIMEZONE
TZID:America/Anchorage
BEGIN:DAYLIGHT
DTSTART:20180311T020000Z
TZOFFSETFROM:-0900
TZOFFSETTO:-0800
END:DAYLIGHT
BEGIN:STANDARD
DTSTART:20181104T020000Z
TZOFFSETFROM:-0800
TZOFFSETTO:-0900
END:STANDARD
BEGIN:DAYLIGHT
DTSTART:20190310T020000Z
TZOFFSETFROM:-0900
TZOFFSETTO:-0800
END:DAYLIGHT
END:VTIMEZONE
BEGIN:VTIMEZONE
TZID:UTC
BEGIN:STANDARD
DTSTART:20250727T181038Z
TZOFFSETFROM:+0000
TZOFFSETTO:+0000
END:STANDARD
END:VTIMEZONE
BEGIN:VEVENT
UID:1397-219
DTSTAMP:20260423T181038Z
SUMMARY:Walk with a Doc! with Dr. Katie Ostrom - \"Gynecological Cancers: A
 m I at Risk?\"
LOCATION:
ORGANIZER;CN=Tundra Technologies:MAILTO:tom@tundratech.net
DTSTART;TZID=America/Anchorage:20180908T090000
DTEND;TZID=America/Anchorage:20180908T100000
X-ALT-DESC;FMTTYPE=TEXT/HTML:Join South Peninsula Hospital and Katie Ostrom
 \, MD\, OB-GYN at SPARC (600 Sterling Hwy next to Homer Middle School) f
 or our next “Walk with a Doc”! All are welcome Saturday\, September 8t
 h from 9:00 am-10:00 am for Dr. Ostrom's brief talk on gynecological cance
 rs and spend the rest of the hour walking at your own pace\, chatting&amp;hell
 ip\;
CATEGORIES:Community Event
URL;VALUE=URI:https://www.sphosp.org/mc-events/walk-with-a-doc-with-dr-kati
 e-ostrom-gynecological-cancers-am-i-at-risk/
METHOD:PUBLISH
END:VEVENT
END:VCALENDAR