BEGIN:VCALENDAR
VERSION:2.0
PRODID:spatie/icalendar-generator
DESCRIPTION:Events from South Peninsula Hospital
X-WR-CALDESC:Events from South Peninsula Hospital
REFRESH-INTERVAL;VALUE=DURATION:PT1440M
X-PUBLISHED-TTL:PT1440M
BEGIN:VTIMEZONE
TZID:America/Anchorage
BEGIN:DAYLIGHT
DTSTART:20180311T020000Z
TZOFFSETFROM:-0900
TZOFFSETTO:-0800
END:DAYLIGHT
BEGIN:STANDARD
DTSTART:20181104T020000Z
TZOFFSETFROM:-0800
TZOFFSETTO:-0900
END:STANDARD
BEGIN:DAYLIGHT
DTSTART:20190310T020000Z
TZOFFSETFROM:-0900
TZOFFSETTO:-0800
END:DAYLIGHT
END:VTIMEZONE
BEGIN:VTIMEZONE
TZID:UTC
BEGIN:STANDARD
DTSTART:20250728T103809Z
TZOFFSETFROM:+0000
TZOFFSETTO:+0000
END:STANDARD
END:VTIMEZONE
BEGIN:VEVENT
UID:1408-229
DTSTAMP:20260424T103809Z
SUMMARY:BLS (Basic Life Support) for Healthcare Professionals
LOCATION:
ORGANIZER;CN=Tundra Technologies:MAILTO:tom@tundratech.net
DTSTART;TZID=America/Anchorage:20180914T080000
DTEND;TZID=America/Anchorage:20180914T120000
X-ALT-DESC;FMTTYPE=TEXT/HTML:<p>8:00 AM - 12:00 PM at the South Peninsula H
 ospital Training Center.  This course is designed to meet the needs of h
 ealth care professionals who respond to cardiac and respiratory emergencie
 s.  Call (907) 235-0833 to register and for more information.  Cost is $7
 5.00\, payable by cash or check to South Peninsula Hospital.</p>\n
CATEGORIES:Community Education
URL;VALUE=URI:https://www.sphosp.org/mc-events/bls-basic-life-support-for-h
 ealthcare-professionals/
METHOD:PUBLISH
END:VEVENT
END:VCALENDAR