BEGIN:VCALENDAR
VERSION:2.0
PRODID:spatie/icalendar-generator
DESCRIPTION:Events from South Peninsula Hospital
X-WR-CALDESC:Events from South Peninsula Hospital
REFRESH-INTERVAL;VALUE=DURATION:PT1440M
X-PUBLISHED-TTL:PT1440M
BEGIN:VTIMEZONE
TZID:America/Anchorage
BEGIN:DAYLIGHT
DTSTART:20180311T020000Z
TZOFFSETFROM:-0900
TZOFFSETTO:-0800
END:DAYLIGHT
BEGIN:STANDARD
DTSTART:20181104T020000Z
TZOFFSETFROM:-0800
TZOFFSETTO:-0900
END:STANDARD
BEGIN:DAYLIGHT
DTSTART:20190310T020000Z
TZOFFSETFROM:-0900
TZOFFSETTO:-0800
END:DAYLIGHT
END:VTIMEZONE
BEGIN:VTIMEZONE
TZID:UTC
BEGIN:STANDARD
DTSTART:20250728T134130Z
TZOFFSETFROM:+0000
TZOFFSETTO:+0000
END:STANDARD
END:VTIMEZONE
BEGIN:VEVENT
UID:1410-231
DTSTAMP:20260424T134130Z
SUMMARY:Alzheimer's Disease: Myth\, Facts &amp;amp\; the Future with John S.K. 
 Kauwe\, PhD
LOCATION:
ORGANIZER;CN=Tundra Technologies:MAILTO:tom@tundratech.net
DTSTART;TZID=America/Anchorage:20180928T180000
DTEND;TZID=America/Anchorage:20180928T193000
X-ALT-DESC;FMTTYPE=TEXT/HTML:<p>Join South Peninsula Hospital and Dr. Kauwe
  at the Homer Public Library from 6-7:30 PM on Friday\, September 28th to 
 learn about his research on the genetics of Alzheimer’s disease\, follow
 ed by your questions.  All are welcome to this free event!</p>\n
CATEGORIES:Community Event
URL;VALUE=URI:https://www.sphosp.org/mc-events/alzheimers-disease-myth-fact
 s-the-future-with-john-s-k-kauwe-phd/
METHOD:PUBLISH
END:VEVENT
END:VCALENDAR