BEGIN:VCALENDAR
VERSION:2.0
PRODID:spatie/icalendar-generator
DESCRIPTION:Events from South Peninsula Hospital
X-WR-CALDESC:Events from South Peninsula Hospital
REFRESH-INTERVAL;VALUE=DURATION:PT1440M
X-PUBLISHED-TTL:PT1440M
BEGIN:VTIMEZONE
TZID:America/Anchorage
BEGIN:DAYLIGHT
DTSTART:20180311T020000Z
TZOFFSETFROM:-0900
TZOFFSETTO:-0800
END:DAYLIGHT
BEGIN:STANDARD
DTSTART:20181104T020000Z
TZOFFSETFROM:-0800
TZOFFSETTO:-0900
END:STANDARD
BEGIN:DAYLIGHT
DTSTART:20190310T020000Z
TZOFFSETFROM:-0900
TZOFFSETTO:-0800
END:DAYLIGHT
END:VTIMEZONE
BEGIN:VTIMEZONE
TZID:UTC
BEGIN:STANDARD
DTSTART:20250729T000525Z
TZOFFSETFROM:+0000
TZOFFSETTO:+0000
END:STANDARD
END:VTIMEZONE
BEGIN:VEVENT
UID:1415-236
DTSTAMP:20260425T000525Z
SUMMARY:Mobile Blood Drives with the Blood Bank of Alaska
LOCATION:
ORGANIZER;CN=Tundra Technologies:MAILTO:tom@tundratech.net
DTSTART;TZID=America/Anchorage:20181104T080000
DTEND;TZID=America/Anchorage:20181104T150000
X-ALT-DESC;FMTTYPE=TEXT/HTML:<p>There will be a mobile blood drive with the
  Blood Bank of Alaska at the Fair on November 3rd and on Sunday\, November
  4th from 8:00 AM – 3:00 PM at Safeway. Make appointments to donate at d
 onate.bloodbankofalaska.org by logging in or registering\, clicking the DO
 NATE NOW button\, and searching by City or Zip Code for either or both 11/
 3/2018 and 11/4/2018.</p>\n
CATEGORIES:Community Event
URL;VALUE=URI:https://www.sphosp.org/mc-events/mobile-blood-drives-with-the
 -blood-bank-of-alaska-2/
METHOD:PUBLISH
END:VEVENT
END:VCALENDAR