BEGIN:VCALENDAR
VERSION:2.0
PRODID:spatie/icalendar-generator
DESCRIPTION:Events from South Peninsula Hospital
X-WR-CALDESC:Events from South Peninsula Hospital
REFRESH-INTERVAL;VALUE=DURATION:PT1440M
X-PUBLISHED-TTL:PT1440M
BEGIN:VTIMEZONE
TZID:America/Anchorage
BEGIN:DAYLIGHT
DTSTART:20180311T020000Z
TZOFFSETFROM:-0900
TZOFFSETTO:-0800
END:DAYLIGHT
BEGIN:STANDARD
DTSTART:20181104T020000Z
TZOFFSETFROM:-0800
TZOFFSETTO:-0900
END:STANDARD
BEGIN:DAYLIGHT
DTSTART:20190310T020000Z
TZOFFSETFROM:-0900
TZOFFSETTO:-0800
END:DAYLIGHT
END:VTIMEZONE
BEGIN:VTIMEZONE
TZID:UTC
BEGIN:STANDARD
DTSTART:20250729T033408Z
TZOFFSETFROM:+0000
TZOFFSETTO:+0000
END:STANDARD
END:VTIMEZONE
BEGIN:VEVENT
UID:1418-239
DTSTAMP:20260425T033408Z
SUMMARY:Know Your Numbers with Dr. Ross Tanner: Free community presentation
  about understanding your lab results
LOCATION:
ORGANIZER;CN=Tundra Technologies:MAILTO:tom@tundratech.net
DTSTART;TZID=America/Anchorage:20181108T180000
DTEND;TZID=America/Anchorage:20181108T200000
X-ALT-DESC;FMTTYPE=TEXT/HTML:<p>Join South Peninsula Hospital and Dr. Ross 
 Tanner\, founder of the Diabetes and Lipid Clinic of Alaska for a free eve
 ning presentation and Q&amp;amp\;A on understanding your lab results at Homer 
 Council on the Arts\, 355 W Pioneer Ave in Homer\, from 6 PM - 8PM on Thur
 sday\, November 8th.  Bring your results from the Rotary Health Fair\, or
  any other testing\, and your questions! Contact SPH Health &amp;amp\; Wellnes
 s for more information at (907) 235-0970</p>\n
CATEGORIES:Community Event
URL;VALUE=URI:https://www.sphosp.org/mc-events/know-your-numbers-with-dr-ro
 ss-tanner-free-community-presentation-about-understanding-your-lab-results
 /
METHOD:PUBLISH
END:VEVENT
END:VCALENDAR