BEGIN:VCALENDAR
VERSION:2.0
PRODID:spatie/icalendar-generator
DESCRIPTION:Events from South Peninsula Hospital
X-WR-CALDESC:Events from South Peninsula Hospital
REFRESH-INTERVAL;VALUE=DURATION:PT1440M
X-PUBLISHED-TTL:PT1440M
BEGIN:VTIMEZONE
TZID:America/Anchorage
BEGIN:STANDARD
DTSTART:20181104T020000Z
TZOFFSETFROM:-0800
TZOFFSETTO:-0900
END:STANDARD
BEGIN:DAYLIGHT
DTSTART:20190310T020000Z
TZOFFSETFROM:-0900
TZOFFSETTO:-0800
END:DAYLIGHT
END:VTIMEZONE
BEGIN:VTIMEZONE
TZID:UTC
BEGIN:STANDARD
DTSTART:20250729T105455Z
TZOFFSETFROM:+0000
TZOFFSETTO:+0000
END:STANDARD
END:VTIMEZONE
BEGIN:VEVENT
UID:1423-244
DTSTAMP:20260425T105455Z
SUMMARY:Walk with a Doc! with Homer Medical West Wing Midwife Julie McCarro
 n\, CNM\, ANP - How to Identify Toxins Hidden in Everyday Products
LOCATION:
ORGANIZER;CN=Tundra Technologies:MAILTO:tom@tundratech.net
DTSTART;TZID=America/Anchorage:20181215T090000
DTEND;TZID=America/Anchorage:20181215T100000
X-ALT-DESC;FMTTYPE=TEXT/HTML:<p>Join South Peninsula Hospital and Julie McC
 arron\, CNM\, ANP from the West Wing  at SPARC (600 Sterling Hwy next to 
 Homer Middle School) for our next “Walk with a Doc”! All are welcome 
 Saturday\, December 15th from 9:00 am-10:00 am for Julie's brief talk an
 d spend the rest of the hour walking at your own pace\, chatting &amp;amp\; as
 king any questions. This is a free event\, open to all ages and abilities
 !</p>\n
CATEGORIES:Community Event
URL;VALUE=URI:https://www.sphosp.org/mc-events/walk-with-a-doc-with-homer-m
 edical-west-wing-midwife-julie-mccarron-cnm-anp-how-to-identify-toxins-hid
 den-in-everyday-products/
METHOD:PUBLISH
END:VEVENT
END:VCALENDAR