BEGIN:VCALENDAR
VERSION:2.0
PRODID:spatie/icalendar-generator
DESCRIPTION:Events from South Peninsula Hospital
X-WR-CALDESC:Events from South Peninsula Hospital
REFRESH-INTERVAL;VALUE=DURATION:PT1440M
X-PUBLISHED-TTL:PT1440M
BEGIN:VTIMEZONE
TZID:America/Anchorage
BEGIN:STANDARD
DTSTART:20181104T020000Z
TZOFFSETFROM:-0800
TZOFFSETTO:-0900
END:STANDARD
BEGIN:DAYLIGHT
DTSTART:20190310T020000Z
TZOFFSETFROM:-0900
TZOFFSETTO:-0800
END:DAYLIGHT
END:VTIMEZONE
BEGIN:VTIMEZONE
TZID:UTC
BEGIN:STANDARD
DTSTART:20250729T141047Z
TZOFFSETFROM:+0000
TZOFFSETTO:+0000
END:STANDARD
END:VTIMEZONE
BEGIN:VEVENT
UID:1426-246
DTSTAMP:20260425T141047Z
SUMMARY:Walk with a Doc! with Dr. John Halligan\, Medical Director of the P
 eninsula Radiation Oncology Center for “Open Mic on Cancer”.
LOCATION:
ORGANIZER;CN=Tundra Technologies:MAILTO:tom@tundratech.net
DTSTART;TZID=America/Anchorage:20190105T090000
DTEND;TZID=America/Anchorage:20190105T100000
X-ALT-DESC;FMTTYPE=TEXT/HTML:<p>Join South Peninsula Hospital and Peninsula
  Radiation Oncology Medical Director John Halligan\, MD at SPARC (600 Ster
 ling Hwy next to Homer Middle School) for our next “Walk with a Doc”! 
 All are welcome Saturday\, January 5th from 9:00 am-10:00 am for Dr. Hal
 ligan's brief open mic on cancer and spend the rest of the hour walking 
 at your own pace\, chatting &amp;amp\; asking any questions. This is a free e
 vent\, open to all ages and abilities!</p>\n
CATEGORIES:Community Event
URL;VALUE=URI:https://www.sphosp.org/mc-events/walk-with-a-doc-with-dr-john
 -halligan-medical-director-of-the-peninsula-radiation-oncology-center-for-
 open-mic-on-cancer/
METHOD:PUBLISH
END:VEVENT
END:VCALENDAR