BEGIN:VCALENDAR
VERSION:2.0
PRODID:spatie/icalendar-generator
DESCRIPTION:Events from South Peninsula Hospital
X-WR-CALDESC:Events from South Peninsula Hospital
REFRESH-INTERVAL;VALUE=DURATION:PT1440M
X-PUBLISHED-TTL:PT1440M
BEGIN:VTIMEZONE
TZID:America/Anchorage
BEGIN:STANDARD
DTSTART:20181104T020000Z
TZOFFSETFROM:-0800
TZOFFSETTO:-0900
END:STANDARD
BEGIN:DAYLIGHT
DTSTART:20190310T020000Z
TZOFFSETFROM:-0900
TZOFFSETTO:-0800
END:DAYLIGHT
END:VTIMEZONE
BEGIN:VTIMEZONE
TZID:UTC
BEGIN:STANDARD
DTSTART:20250729T160127Z
TZOFFSETFROM:+0000
TZOFFSETTO:+0000
END:STANDARD
END:VTIMEZONE
BEGIN:VEVENT
UID:1433-248
DTSTAMP:20260425T160127Z
SUMMARY:Safe Sitter - One Day with CPR &amp;amp\; Choking Rescue Skills
LOCATION:
ORGANIZER;CN=Tundra Technologies:MAILTO:tom@tundratech.net
DTSTART;TZID=America/Anchorage:20190104T090000
DTEND;TZID=America/Anchorage:20190104T163000
X-ALT-DESC;FMTTYPE=TEXT/HTML:<p>The next Safe Sitter Course is scheduled fo
 r Friday\, January 4th from 9:00 am - 4:30 pm at South Peninsula Hospital.
  Registration is required by January 2nd - to register\, please contact So
 uth Peninsula Hospital Health &amp;amp\; Wellness at wellness@sphosp.org or by
  calling (907) 235-0970.</p>\n
CATEGORIES:Community Event
URL;VALUE=URI:https://www.sphosp.org/mc-events/safe-sitter-one-day-with-cpr
 -choking-rescue-skills/
METHOD:PUBLISH
END:VEVENT
END:VCALENDAR