BEGIN:VCALENDAR
VERSION:2.0
PRODID:spatie/icalendar-generator
DESCRIPTION:Events from South Peninsula Hospital
X-WR-CALDESC:Events from South Peninsula Hospital
REFRESH-INTERVAL;VALUE=DURATION:PT1440M
X-PUBLISHED-TTL:PT1440M
BEGIN:VTIMEZONE
TZID:America/Anchorage
BEGIN:STANDARD
DTSTART:20221106T020000Z
TZOFFSETFROM:-0800
TZOFFSETTO:-0900
END:STANDARD
BEGIN:DAYLIGHT
DTSTART:20230312T020000Z
TZOFFSETFROM:-0900
TZOFFSETTO:-0800
END:DAYLIGHT
END:VTIMEZONE
BEGIN:VTIMEZONE
TZID:UTC
BEGIN:STANDARD
DTSTART:20250725T194622Z
TZOFFSETFROM:+0000
TZOFFSETTO:+0000
END:STANDARD
END:VTIMEZONE
BEGIN:VEVENT
UID:2157-459
DTSTAMP:20260421T194622Z
SUMMARY:Registration Opens for Homer Steps Up! 2023
LOCATION:
ORGANIZER;CN=Tundra Technologies:MAILTO:tom@tundratech.net
DTSTART;TZID=America/Anchorage;VALUE=DATE:20230410
DTEND;TZID=America/Anchorage;VALUE=DATE:20230411
X-ALT-DESC;FMTTYPE=TEXT/HTML:<p>Homer Steps Up is a FREE community walking 
 challenge that anyone can participate in\, because it's all online at home
 rstepsup.com!</p>\n<p>The SEVENTH annual Homer Steps Up will be from May -
  May 28\, 2023.</p>\n<p>Save the date and start organizing your team for 2
 023’s Homer Steps Up! Community Walking Challenge! Registration will beg
 in on April 10th for the 6th Annual Homer Steps Up! and the challenge will
  be four weeks long from May 1 – May 28\, 2023.</p>\n
CATEGORIES:Community Event
URL;VALUE=URI:https://www.sphosp.org/mc-events/registration-opens-for-homer
 -steps-up-2023/
METHOD:PUBLISH
END:VEVENT
END:VCALENDAR