BEGIN:VCALENDAR
VERSION:2.0
PRODID:spatie/icalendar-generator
DESCRIPTION:Events from South Peninsula Hospital
X-WR-CALDESC:Events from South Peninsula Hospital
REFRESH-INTERVAL;VALUE=DURATION:PT1440M
X-PUBLISHED-TTL:PT1440M
BEGIN:VTIMEZONE
TZID:America/Anchorage
BEGIN:STANDARD
DTSTART:20221106T020000Z
TZOFFSETFROM:-0800
TZOFFSETTO:-0900
END:STANDARD
BEGIN:DAYLIGHT
DTSTART:20230312T020000Z
TZOFFSETFROM:-0900
TZOFFSETTO:-0800
END:DAYLIGHT
END:VTIMEZONE
BEGIN:VTIMEZONE
TZID:UTC
BEGIN:STANDARD
DTSTART:20250726T005116Z
TZOFFSETFROM:+0000
TZOFFSETTO:+0000
END:STANDARD
END:VTIMEZONE
BEGIN:VEVENT
UID:2160-462
DTSTAMP:20260422T005116Z
SUMMARY:Safe Sitter 2-Day Course for Grades 6-8
LOCATION:
ORGANIZER;CN=Tundra Technologies:MAILTO:tom@tundratech.net
DTSTART;TZID=America/Anchorage:20230408T090000
DTEND;TZID=America/Anchorage:20230408T143000
X-ALT-DESC;FMTTYPE=TEXT/HTML:<p>The next upcoming Safe Sitter class at Sout
 h Peninsula Hospital is on Friday &amp;amp\; Saturday\,April 7th &amp;amp\; 8th fr
 om 9am-2:30pm (students must attend both days).</p>\n
CATEGORIES:Community Event,  Community Education
URL;VALUE=URI:https://www.sphosp.org/mc-events/safe-sitter-2-day-course-for
 -grades-6-8-2/
METHOD:PUBLISH
END:VEVENT
END:VCALENDAR