BEGIN:VCALENDAR
VERSION:2.0
PRODID:spatie/icalendar-generator
DESCRIPTION:Events from South Peninsula Hospital
X-WR-CALDESC:Events from South Peninsula Hospital
REFRESH-INTERVAL;VALUE=DURATION:PT1440M
X-PUBLISHED-TTL:PT1440M
BEGIN:VTIMEZONE
TZID:America/Anchorage
BEGIN:STANDARD
DTSTART:20221106T020000Z
TZOFFSETFROM:-0800
TZOFFSETTO:-0900
END:STANDARD
BEGIN:DAYLIGHT
DTSTART:20230312T020000Z
TZOFFSETFROM:-0900
TZOFFSETTO:-0800
END:DAYLIGHT
BEGIN:STANDARD
DTSTART:20231105T020000Z
TZOFFSETFROM:-0800
TZOFFSETTO:-0900
END:STANDARD
END:VTIMEZONE
BEGIN:VTIMEZONE
TZID:UTC
BEGIN:STANDARD
DTSTART:20250726T060125Z
TZOFFSETFROM:+0000
TZOFFSETTO:+0000
END:STANDARD
END:VTIMEZONE
BEGIN:VEVENT
UID:2166-465
DTSTAMP:20260422T060125Z
SUMMARY:30th Annual Safe and Healthy Kids Fair
LOCATION:Homer High School
ORGANIZER;CN=Tundra Technologies:MAILTO:tom@tundratech.net
DTSTART;TZID=America/Anchorage:20230506T110000
DTEND;TZID=America/Anchorage:20230506T140000
X-ALT-DESC;FMTTYPE=TEXT/HTML:<p>The 30th Annual Safe and Healthy Kids Fair 
 is set for Saturday\, May 6th from 11am-2pm in the parking lot of the Home
 r High School. This is a free\, family friendly event for children of all 
 ages to focus on safety\, health\, wellness\, and fun! It offers more than
  25 booths and stations with hands on activities and demonstrations.</p>\n
CATEGORIES:Community Event
URL;VALUE=URI:https://www.sphosp.org/mc-events/30th-annual-safe-and-healthy
 -kids-fair/
METHOD:PUBLISH
END:VEVENT
END:VCALENDAR