BEGIN:VCALENDAR
VERSION:2.0
PRODID:spatie/icalendar-generator
DESCRIPTION:Events from South Peninsula Hospital
X-WR-CALDESC:Events from South Peninsula Hospital
REFRESH-INTERVAL;VALUE=DURATION:PT1440M
X-PUBLISHED-TTL:PT1440M
BEGIN:VTIMEZONE
TZID:America/Anchorage
BEGIN:STANDARD
DTSTART:20221106T020000Z
TZOFFSETFROM:-0800
TZOFFSETTO:-0900
END:STANDARD
BEGIN:DAYLIGHT
DTSTART:20230312T020000Z
TZOFFSETFROM:-0900
TZOFFSETTO:-0800
END:DAYLIGHT
BEGIN:STANDARD
DTSTART:20231105T020000Z
TZOFFSETFROM:-0800
TZOFFSETTO:-0900
END:STANDARD
END:VTIMEZONE
BEGIN:VTIMEZONE
TZID:UTC
BEGIN:STANDARD
DTSTART:20250726T091055Z
TZOFFSETFROM:+0000
TZOFFSETTO:+0000
END:STANDARD
END:VTIMEZONE
BEGIN:VEVENT
UID:2168-467
DTSTAMP:20260422T091055Z
SUMMARY:Awareness in Action: Partying Safely in our Community
LOCATION:Alice\\'s Champagne Palace 195 E Pioneer Ave  Homer AK 99603
ORGANIZER;CN=Tundra Technologies:MAILTO:tom@tundratech.net
DTSTART;TZID=America/Anchorage:20230620T173000
DTEND;TZID=America/Anchorage:20230620T183000
X-ALT-DESC;FMTTYPE=TEXT/HTML:<p>Join Annie Garay\, Community Health and Wel
 lness Educator from South Peninsula Hospital\, and Robin Holmes\, MD from 
 Kachemak Bay Family Planning for  “Awareness in Action”\, a free one-
 hour workshop on how to party safely in social environments. Learn to iden
 tify signs of non-consensual substance intake\, test drugs for fentanyl\, 
 and identify signs of an overdose. Learn overdose response techniques and 
 get a free Narcan kit. This event will be held Tuesday\, June 20th from 5:
 30-6:30pm at Alice’s Champagne Palace\, 195 E Pioneer Ave. in Homer.  E
 njoy free pizza\, non-alcoholic beverages and door prizes.  For more info
 rmation contact SPH Health &amp;amp\; Wellness at 907-235-0285.</p>\n
CATEGORIES:Community Event,  Community Education
URL;VALUE=URI:https://www.sphosp.org/mc-events/awareness-in-action-partying
 -safely-in-our-community/
METHOD:PUBLISH
END:VEVENT
END:VCALENDAR