BEGIN:VCALENDAR
VERSION:2.0
PRODID:spatie/icalendar-generator
DESCRIPTION:Events from South Peninsula Hospital
X-WR-CALDESC:Events from South Peninsula Hospital
REFRESH-INTERVAL;VALUE=DURATION:PT1440M
X-PUBLISHED-TTL:PT1440M
BEGIN:VTIMEZONE
TZID:America/Anchorage
BEGIN:DAYLIGHT
DTSTART:20230312T020000Z
TZOFFSETFROM:-0900
TZOFFSETTO:-0800
END:DAYLIGHT
BEGIN:STANDARD
DTSTART:20231105T020000Z
TZOFFSETFROM:-0800
TZOFFSETTO:-0900
END:STANDARD
BEGIN:DAYLIGHT
DTSTART:20240310T020000Z
TZOFFSETFROM:-0900
TZOFFSETTO:-0800
END:DAYLIGHT
END:VTIMEZONE
BEGIN:VTIMEZONE
TZID:UTC
BEGIN:STANDARD
DTSTART:20250725T110220Z
TZOFFSETFROM:+0000
TZOFFSETTO:+0000
END:STANDARD
END:VTIMEZONE
BEGIN:VEVENT
UID:2193-487
DTSTAMP:20260421T110220Z
SUMMARY:Wellness Wednesday: Self Massage for Health &amp;amp\; Wellness with Li
 v Vincent
LOCATION:Kachemak Bay Campus - Room 202
ORGANIZER;CN=Tundra Technologies:MAILTO:tom@tundratech.net
DTSTART;TZID=America/Anchorage:20231121T170000
DTEND;TZID=America/Anchorage:20231121T190000
X-ALT-DESC;FMTTYPE=TEXT/HTML:Join South Peninsula Hospital's Health and Wel
 lness team on Wednesday\, December 13th\, from 5-7 pm at Kachemak Bay Coll
 ege to learn about self-massage techniques to promote health and wellness!
  Join Massage Therapist Liv Vincent for a mini class on self-massage techn
 iques for sinus and lymph drainage. Enjoy soup and warm bread as Liv prese
 nts how&amp;hellip\;
CATEGORIES:Community Event
URL;VALUE=URI:https://www.sphosp.org/mc-events/wellness-wednesday-self-mass
 age-for-health-wellness-with-liv-vincent/
METHOD:PUBLISH
END:VEVENT
END:VCALENDAR