BEGIN:VCALENDAR
VERSION:2.0
PRODID:spatie/icalendar-generator
DESCRIPTION:Events from South Peninsula Hospital
X-WR-CALDESC:Events from South Peninsula Hospital
REFRESH-INTERVAL;VALUE=DURATION:PT1440M
X-PUBLISHED-TTL:PT1440M
BEGIN:VTIMEZONE
TZID:America/Anchorage
BEGIN:STANDARD
DTSTART:20231105T020000Z
TZOFFSETFROM:-0800
TZOFFSETTO:-0900
END:STANDARD
BEGIN:DAYLIGHT
DTSTART:20240310T020000Z
TZOFFSETFROM:-0900
TZOFFSETTO:-0800
END:DAYLIGHT
END:VTIMEZONE
BEGIN:VTIMEZONE
TZID:UTC
BEGIN:STANDARD
DTSTART:20250723T140626Z
TZOFFSETFROM:+0000
TZOFFSETTO:+0000
END:STANDARD
END:VTIMEZONE
BEGIN:VEVENT
UID:2194-488
DTSTAMP:20260419T140626Z
SUMMARY:Wellness Wednesday: Stop the Bleed with Frank Kilma
LOCATION:Kachemak Bay Campus - Room 202
ORGANIZER;CN=Tundra Technologies:MAILTO:tom@tundratech.net
DTSTART;TZID=America/Anchorage:20231220T170000
DTEND;TZID=America/Anchorage:20231220T190000
X-ALT-DESC;FMTTYPE=TEXT/HTML:This Wellness Wednesday\, December 20th at Kac
 hemak Bay College from 5-7 pm\, we're joining ER Nurse Frank Klima in lear
 ning how to stop a life-threatening bleed! You'll gain the ability to reco
 gnize life-threatening bleeding signs and how to intervene effectively. B
 ecome empowered to make a difference when a bleeding emergency occurs! En
 joy soup and warm bread while&amp;hellip\;
CATEGORIES:Community Event
URL;VALUE=URI:https://www.sphosp.org/mc-events/wellness-wednesday-stop-the-
 bleed-with-frank-kilma/
METHOD:PUBLISH
END:VEVENT
END:VCALENDAR