BEGIN:VCALENDAR
VERSION:2.0
PRODID:spatie/icalendar-generator
DESCRIPTION:Events from South Peninsula Hospital
X-WR-CALDESC:Events from South Peninsula Hospital
REFRESH-INTERVAL;VALUE=DURATION:PT1440M
X-PUBLISHED-TTL:PT1440M
BEGIN:VTIMEZONE
TZID:America/Anchorage
BEGIN:STANDARD
DTSTART:20231105T020000Z
TZOFFSETFROM:-0800
TZOFFSETTO:-0900
END:STANDARD
BEGIN:DAYLIGHT
DTSTART:20240310T020000Z
TZOFFSETFROM:-0900
TZOFFSETTO:-0800
END:DAYLIGHT
BEGIN:STANDARD
DTSTART:20241103T020000Z
TZOFFSETFROM:-0800
TZOFFSETTO:-0900
END:STANDARD
END:VTIMEZONE
BEGIN:VTIMEZONE
TZID:UTC
BEGIN:STANDARD
DTSTART:20250726T202557Z
TZOFFSETFROM:+0000
TZOFFSETTO:+0000
END:STANDARD
END:VTIMEZONE
BEGIN:VEVENT
UID:2288-521
DTSTAMP:20260422T202557Z
SUMMARY:Safe and Healthy Kids Fair
LOCATION:Homer High School
ORGANIZER;CN=Kammi Matson:MAILTO:kmatson@sphosp.org
DTSTART;TZID=America/Anchorage:20240504T110000
DTEND;TZID=America/Anchorage:20240504T140000
X-ALT-DESC;FMTTYPE=TEXT/HTML:The 31st Annual Safe and Healthy Kids Fair is 
 set for Saturday\, May 4th from 11am-2pm at the Homer High School. This is
  a free\, family friendly event for children of all ages to focus on safet
 y\, health\, wellness\, and fun! It offers more than 25 booths and station
 s with hands on activities and demonstrations.&amp;hellip\;
CATEGORIES:Community Event
URL;VALUE=URI:https://www.sphosp.org/mc-events/safe-and-healthy-kids-fair-2
 /
METHOD:PUBLISH
END:VEVENT
END:VCALENDAR