BEGIN:VCALENDAR
VERSION:2.0
PRODID:spatie/icalendar-generator
DESCRIPTION:Events from South Peninsula Hospital
X-WR-CALDESC:Events from South Peninsula Hospital
REFRESH-INTERVAL;VALUE=DURATION:PT1440M
X-PUBLISHED-TTL:PT1440M
BEGIN:VTIMEZONE
TZID:America/Anchorage
BEGIN:STANDARD
DTSTART:20231105T020000Z
TZOFFSETFROM:-0800
TZOFFSETTO:-0900
END:STANDARD
BEGIN:DAYLIGHT
DTSTART:20240310T020000Z
TZOFFSETFROM:-0900
TZOFFSETTO:-0800
END:DAYLIGHT
BEGIN:STANDARD
DTSTART:20241103T020000Z
TZOFFSETFROM:-0800
TZOFFSETTO:-0900
END:STANDARD
END:VTIMEZONE
BEGIN:VTIMEZONE
TZID:UTC
BEGIN:STANDARD
DTSTART:20250726T230057Z
TZOFFSETFROM:+0000
TZOFFSETTO:+0000
END:STANDARD
END:VTIMEZONE
BEGIN:VEVENT
UID:2289-522
DTSTAMP:20260422T230057Z
SUMMARY:SPH Gift Shop Open House!
LOCATION:South Peninsula Hospital Gift Shop
ORGANIZER;CN=Derotha Ferraro:MAILTO:dbf@sphosp.org
DTSTART;TZID=America/Anchorage:20240702T110000
DTEND;TZID=America/Anchorage:20240703T140000
X-ALT-DESC;FMTTYPE=TEXT/HTML:The SPH Gift Shop (located inside the Main Ent
 rance) is having an Independence Day Open House! Stop by on July 2nd or Ju
 ly 3rd from 11am-2pm for an Open House! They'll be refreshments\, door pri
 zes and more! AND for every purchase you make over $15 enters you into a G
 RAND PRIZE DRAWING! All proceeds from&amp;hellip\;
CATEGORIES:Community Event
URL;VALUE=URI:https://www.sphosp.org/mc-events/sph-gift-shop-open-house/
METHOD:PUBLISH
END:VEVENT
END:VCALENDAR