BEGIN:VCALENDAR
VERSION:2.0
PRODID:spatie/icalendar-generator
DESCRIPTION:Events from South Peninsula Hospital
X-WR-CALDESC:Events from South Peninsula Hospital
REFRESH-INTERVAL;VALUE=DURATION:PT1440M
X-PUBLISHED-TTL:PT1440M
BEGIN:VTIMEZONE
TZID:America/Anchorage
BEGIN:DAYLIGHT
DTSTART:20240310T020000Z
TZOFFSETFROM:-0900
TZOFFSETTO:-0800
END:DAYLIGHT
BEGIN:STANDARD
DTSTART:20241103T020000Z
TZOFFSETFROM:-0800
TZOFFSETTO:-0900
END:STANDARD
END:VTIMEZONE
BEGIN:VTIMEZONE
TZID:UTC
BEGIN:STANDARD
DTSTART:20250726T170658Z
TZOFFSETFROM:+0000
TZOFFSETTO:+0000
END:STANDARD
END:VTIMEZONE
BEGIN:VEVENT
UID:2293-523
DTSTAMP:20260422T170658Z
SUMMARY:Chaos Compass: Mindfulness with Teens
LOCATION:Kachemak Bay Campus - Room 202
ORGANIZER;CN=Kammi Matson:MAILTO:kmatson@sphosp.org
RRULE:FREQ=WEEKLY;UNTIL=20240926T000000Z
DTSTART;TZID=America/Anchorage:20240822T161500
DTEND;TZID=America/Anchorage:20240822T173000
X-ALT-DESC;FMTTYPE=TEXT/HTML:Ready to navigate life's chaos with confidence
 ? Introducing \"Chaos Compass\,” a free six-week course designed for tee
 ns aged 14-18\, led by Homer Medical Center’s Pediatric Nurse Practition
 er\, Devry Garity. Explore a brain-based understanding of yourself and oth
 ers as we journey through techniques to strengthen our minds\, sharpen foc
 us\, manage emotions\, make wise decisions\, and cultivate&amp;hellip\;
CATEGORIES:Community Event
URL;VALUE=URI:https://www.sphosp.org/mc-events/chaos-compass-mindfulness-wi
 th-teens/?mc_id=2293
METHOD:PUBLISH
END:VEVENT
END:VCALENDAR