BEGIN:VCALENDAR
VERSION:2.0
PRODID:spatie/icalendar-generator
DESCRIPTION:Events from South Peninsula Hospital
X-WR-CALDESC:Events from South Peninsula Hospital
REFRESH-INTERVAL;VALUE=DURATION:PT1440M
X-PUBLISHED-TTL:PT1440M
BEGIN:VTIMEZONE
TZID:America/Anchorage
BEGIN:DAYLIGHT
DTSTART:20240310T020000Z
TZOFFSETFROM:-0900
TZOFFSETTO:-0800
END:DAYLIGHT
BEGIN:STANDARD
DTSTART:20241103T020000Z
TZOFFSETFROM:-0800
TZOFFSETTO:-0900
END:STANDARD
BEGIN:DAYLIGHT
DTSTART:20250309T020000Z
TZOFFSETFROM:-0900
TZOFFSETTO:-0800
END:DAYLIGHT
END:VTIMEZONE
BEGIN:VTIMEZONE
TZID:UTC
BEGIN:STANDARD
DTSTART:20250726T164940Z
TZOFFSETFROM:+0000
TZOFFSETTO:+0000
END:STANDARD
END:VTIMEZONE
BEGIN:VEVENT
UID:2298-524
DTSTAMP:20260422T164940Z
SUMMARY:End of Life Decision Making
LOCATION:Islands and Ocean Visitor Center 95 Sterling Hwy\,   Homer Alaska 
  99603
ORGANIZER;CN=Kammi Matson:MAILTO:kmatson@sphosp.org
DTSTART;TZID=America/Anchorage:20240925T180000
DTEND;TZID=America/Anchorage:20240925T200000
X-ALT-DESC;FMTTYPE=TEXT/HTML:Join us for a free educational presentation wi
 th Dr. Giulia Tortora from Homer Medical Center\, local Estate Planning At
 torney Lindsay Wolter\, and Hospice of Homer Death Doula Morgan Laffert. T
 he following topics will be covered: Living Wills Medical Power of Attorne
 y Legal &amp;amp\; Medical Decisions Emotional Considerations Wednesday Septem
 ber 25\, 6:00-8:00pm FREE  at Islands &amp;amp\;&amp;hellip\;
CATEGORIES:Community Event
URL;VALUE=URI:https://www.sphosp.org/mc-events/end-of-life-decision-making-
 2/
METHOD:PUBLISH
END:VEVENT
END:VCALENDAR