BEGIN:VCALENDAR
VERSION:2.0
PRODID:spatie/icalendar-generator
DESCRIPTION:Events from South Peninsula Hospital
X-WR-CALDESC:Events from South Peninsula Hospital
REFRESH-INTERVAL;VALUE=DURATION:PT1440M
X-PUBLISHED-TTL:PT1440M
BEGIN:VTIMEZONE
TZID:America/Anchorage
BEGIN:DAYLIGHT
DTSTART:20240310T020000Z
TZOFFSETFROM:-0900
TZOFFSETTO:-0800
END:DAYLIGHT
BEGIN:STANDARD
DTSTART:20241103T020000Z
TZOFFSETFROM:-0800
TZOFFSETTO:-0900
END:STANDARD
BEGIN:DAYLIGHT
DTSTART:20250309T020000Z
TZOFFSETFROM:-0900
TZOFFSETTO:-0800
END:DAYLIGHT
END:VTIMEZONE
BEGIN:VTIMEZONE
TZID:UTC
BEGIN:STANDARD
DTSTART:20250726T100609Z
TZOFFSETFROM:+0000
TZOFFSETTO:+0000
END:STANDARD
END:VTIMEZONE
BEGIN:VEVENT
UID:2303-527
DTSTAMP:20260422T100609Z
SUMMARY:Low Cost Blood Draws
LOCATION:
ORGANIZER;CN=Kammi Matson:MAILTO:kmatson@sphosp.org
RRULE:FREQ=DAILY;BYDAY=MO,TU,WE,TH,FR;UNTIL=20241101T000000Z
DTSTART;TZID=America/Anchorage;VALUE=DATE:20241015
DTEND;TZID=America/Anchorage;VALUE=DATE:20241016
X-ALT-DESC;FMTTYPE=TEXT/HTML:
CATEGORIES:Community Event
URL;VALUE=URI:https://www.sphosp.org/mc-events/low-cost-blood-draws/?mc_id=
 2303
METHOD:PUBLISH
END:VEVENT
END:VCALENDAR