BEGIN:VCALENDAR
VERSION:2.0
PRODID:spatie/icalendar-generator
DESCRIPTION:Events from South Peninsula Hospital
X-WR-CALDESC:Events from South Peninsula Hospital
REFRESH-INTERVAL;VALUE=DURATION:PT1440M
X-PUBLISHED-TTL:PT1440M
BEGIN:VTIMEZONE
TZID:America/Anchorage
BEGIN:STANDARD
DTSTART:20251102T020000Z
TZOFFSETFROM:-0800
TZOFFSETTO:-0900
END:STANDARD
BEGIN:DAYLIGHT
DTSTART:20260308T020000Z
TZOFFSETFROM:-0900
TZOFFSETTO:-0800
END:DAYLIGHT
END:VTIMEZONE
BEGIN:VTIMEZONE
TZID:UTC
BEGIN:STANDARD
DTSTART:20250725T122826Z
TZOFFSETFROM:+0000
TZOFFSETTO:+0000
END:STANDARD
END:VTIMEZONE
BEGIN:VEVENT
UID:2709-584
DTSTAMP:20260421T122826Z
SUMMARY:Wellness Wednesday: Advancing Heart and Brain Imaging Through AI Te
 chnology
LOCATION:Kachemak Bay Campus - Room 202
ORGANIZER;CN=Kammi Matson:MAILTO:kmatson@sphosp.org
DTSTART;TZID=America/Anchorage:20260121T173000
DTEND;TZID=America/Anchorage:20260121T193000
X-ALT-DESC;FMTTYPE=TEXT/HTML:Join Edson Knapp\, MD\, Radiologist at South P
 eninsula Hospital\, for an educational session exploring the cutting-edge 
 integration of artificial intelligence in heart and brain imaging. Learn h
 ow AI enhances diagnostic accuracy\, improves efficiency\, and supports ea
 rly detection of complex conditions. Dr. Knapp will share insights into th
 e latest imaging technologies\, real-world applications\, and how these&amp;he
 llip\;
CATEGORIES:Community Event
URL;VALUE=URI:https://www.sphosp.org/mc-events/wellness-wednesday-advancing
 -heart-and-brain-imaging-through-ai-technology/
METHOD:PUBLISH
END:VEVENT
END:VCALENDAR