BEGIN:VCALENDAR
VERSION:2.0
PRODID:spatie/icalendar-generator
DESCRIPTION:Events from South Peninsula Hospital
X-WR-CALDESC:Events from South Peninsula Hospital
REFRESH-INTERVAL;VALUE=DURATION:PT1440M
X-PUBLISHED-TTL:PT1440M
BEGIN:VTIMEZONE
TZID:America/Anchorage
BEGIN:STANDARD
DTSTART:20251102T020000Z
TZOFFSETFROM:-0800
TZOFFSETTO:-0900
END:STANDARD
BEGIN:DAYLIGHT
DTSTART:20260308T020000Z
TZOFFSETFROM:-0900
TZOFFSETTO:-0800
END:DAYLIGHT
END:VTIMEZONE
BEGIN:VTIMEZONE
TZID:UTC
BEGIN:STANDARD
DTSTART:20250726T102436Z
TZOFFSETFROM:+0000
TZOFFSETTO:+0000
END:STANDARD
END:VTIMEZONE
BEGIN:VEVENT
UID:2733-533
DTSTAMP:20260422T102436Z
SUMMARY:SPH Board of Directors Meeting (open to the public)
LOCATION:South Peninsula Hospital Conference Rooms 1 &amp; 2 4300 Bartlett Stre
 et  Homer
ORGANIZER;CN=Tundra Technologies:MAILTO:tom@tundratech.net
RRULE:FREQ=MONTHLY;BYDAY=4WE;UNTIL=20270101T000000Z
DTSTART;TZID=America/Anchorage:20260325T183000
DTEND;TZID=America/Anchorage:20260325T200000
X-ALT-DESC;FMTTYPE=TEXT/HTML:<p>Monthly Board meetings are generally held e
 very fourth Wednesday of the month at 5:30pm.  The public is welcome to a
 ttend the meetings virtually and in person in the hospital's conference ro
 oms (located on the lower level - please use the Bartlett Street entrance)
 .</p>\n
CATEGORIES:Community Event
URL;VALUE=URI:https://www.sphosp.org/mc-events/sph-board-of-directors-meeti
 ng-open-to-the-public-12/?mc_id=2733
METHOD:PUBLISH
END:VEVENT
END:VCALENDAR