BEGIN:VCALENDAR
VERSION:2.0
PRODID:spatie/icalendar-generator
DESCRIPTION:Events from South Peninsula Hospital
X-WR-CALDESC:Events from South Peninsula Hospital
REFRESH-INTERVAL;VALUE=DURATION:PT1440M
X-PUBLISHED-TTL:PT1440M
BEGIN:VTIMEZONE
TZID:America/Anchorage
BEGIN:STANDARD
DTSTART:20251102T020000Z
TZOFFSETFROM:-0800
TZOFFSETTO:-0900
END:STANDARD
BEGIN:DAYLIGHT
DTSTART:20260308T020000Z
TZOFFSETFROM:-0900
TZOFFSETTO:-0800
END:DAYLIGHT
END:VTIMEZONE
BEGIN:VTIMEZONE
TZID:UTC
BEGIN:STANDARD
DTSTART:20250725T155647Z
TZOFFSETFROM:+0000
TZOFFSETTO:+0000
END:STANDARD
END:VTIMEZONE
BEGIN:VEVENT
UID:2743-537
DTSTAMP:20260421T155647Z
SUMMARY:Community Resource Connect
LOCATION:SPARC (South Peninsula Athletic &amp;amp\; Recreation Center) 600 Ster
 ling Hwy  Homer AK 99603
ORGANIZER;CN=Kammi Matson:MAILTO:kmatson@sphosp.org
DTSTART;TZID=America/Anchorage:20260127T110000
DTEND;TZID=America/Anchorage:20260127T150000
X-ALT-DESC;FMTTYPE=TEXT/HTML:Community Resource Connect (CRC) is a fr
 ee community event designed to connect individuals and families w
 ith local support and resources. If you or someone you know is
  experiencing financial hardship\, housing instability\, or could 
 use extra help with basic needs\, we invite you to join us.  L
 ocation: SPARC: 600 Sterling Highway\, Homer  Date: Tuesday\, Janu
 ary 27\, 2026  Time: 11:00 a.m. – 3:00 p.m.  Cost: Free and 
 open to the public More than 20 local service providers will be
  available to share information and help connect you with: • H
 ousing and homelessness support • Public assistance and benefits 
 • Food resources • Clothing and supplies • Employment and jo
 b support • Child and family resources • Behavioral health and
  recovery support • Community programs and referrals This is a 
 welcoming event for anyone who could benefit from support\, guida
 nce\, or connection to services in our area. You can come to a
 sk questions\, gather information\, and meet organizations that se
 rve the Homer area and surrounding communities. Transportation ass
 istance is available: call or text 907-435-1103 to learn more. Th
 ank you to the SPARC for their generosity in supporting and hou
 sing this event
CATEGORIES:Community Event
URL;VALUE=URI:https://www.sphosp.org/mc-events/community-resource-connect/
METHOD:PUBLISH
END:VEVENT
END:VCALENDAR