BEGIN:VCALENDAR
VERSION:2.0
PRODID:spatie/icalendar-generator
DESCRIPTION:Events from South Peninsula Hospital
X-WR-CALDESC:Events from South Peninsula Hospital
REFRESH-INTERVAL;VALUE=DURATION:PT1440M
X-PUBLISHED-TTL:PT1440M
BEGIN:VTIMEZONE
TZID:America/Anchorage
BEGIN:STANDARD
DTSTART:20151101T020000Z
TZOFFSETFROM:-0800
TZOFFSETTO:-0900
END:STANDARD
BEGIN:DAYLIGHT
DTSTART:20160313T020000Z
TZOFFSETFROM:-0900
TZOFFSETTO:-0800
END:DAYLIGHT
END:VTIMEZONE
BEGIN:VTIMEZONE
TZID:UTC
BEGIN:STANDARD
DTSTART:20250727T074133Z
TZOFFSETFROM:+0000
TZOFFSETTO:+0000
END:STANDARD
END:VTIMEZONE
BEGIN:VEVENT
UID:1221-113
DTSTAMP:20260423T074133Z
SUMMARY:Designer Drugs Presentation - Jennifer Messick\, JD
LOCATION:
ORGANIZER;CN=Tundra Technologies:MAILTO:tom@tundratech.net
DTSTART;TZID=America/Anchorage:20160229T180000
DTEND;TZID=America/Anchorage:20160229T200000
X-ALT-DESC;FMTTYPE=TEXT/HTML:Click here to register.
CATEGORIES:Community Event
URL;VALUE=URI:https://www.sphosp.org/mc-events/designer-drugs-presentation-
 jennifer-messick-jd/
METHOD:PUBLISH
END:VEVENT
END:VCALENDAR