BEGIN:VCALENDAR
VERSION:2.0
PRODID:spatie/icalendar-generator
DESCRIPTION:Events from South Peninsula Hospital
X-WR-CALDESC:Events from South Peninsula Hospital
REFRESH-INTERVAL;VALUE=DURATION:PT1440M
X-PUBLISHED-TTL:PT1440M
BEGIN:VTIMEZONE
TZID:America/Anchorage
BEGIN:STANDARD
DTSTART:20151101T020000Z
TZOFFSETFROM:-0800
TZOFFSETTO:-0900
END:STANDARD
BEGIN:DAYLIGHT
DTSTART:20160313T020000Z
TZOFFSETFROM:-0900
TZOFFSETTO:-0800
END:DAYLIGHT
END:VTIMEZONE
BEGIN:VTIMEZONE
TZID:UTC
BEGIN:STANDARD
DTSTART:20250726T175307Z
TZOFFSETFROM:+0000
TZOFFSETTO:+0000
END:STANDARD
END:VTIMEZONE
BEGIN:VEVENT
UID:1232-115
DTSTAMP:20260422T175307Z
SUMMARY:Living Life to Its Fullest: with arthritis or a repetitive motion i
 njury
LOCATION:
ORGANIZER;CN=Tundra Technologies:MAILTO:tom@tundratech.net
DTSTART;TZID=America/Anchorage:20160330T180000
DTEND;TZID=America/Anchorage:20160330T190000
X-ALT-DESC;FMTTYPE=TEXT/HTML:Presentation and Discussion: Causes\, risk fac
 tors\, treatment and management of arthritis and repetitive motion injurie
 s Presenters: Sarah Bollwitt\, OTR/L and Jacquelyn Forster\, OTR/L (Occupa
 tional Therapist Registered/Licensed) Arthritis-friendly snacks provided C
 all 235-0285 for more info
CATEGORIES:Community Event
URL;VALUE=URI:https://www.sphosp.org/mc-events/living-life-to-its-fullest-w
 ith-arthritis-or-a-repetitive-motion-injury/
METHOD:PUBLISH
END:VEVENT
END:VCALENDAR