BEGIN:VCALENDAR
VERSION:2.0
PRODID:spatie/icalendar-generator
DESCRIPTION:Events from South Peninsula Hospital
X-WR-CALDESC:Events from South Peninsula Hospital
REFRESH-INTERVAL;VALUE=DURATION:PT1440M
X-PUBLISHED-TTL:PT1440M
BEGIN:VTIMEZONE
TZID:America/Anchorage
BEGIN:DAYLIGHT
DTSTART:20170312T020000Z
TZOFFSETFROM:-0900
TZOFFSETTO:-0800
END:DAYLIGHT
BEGIN:STANDARD
DTSTART:20171105T020000Z
TZOFFSETFROM:-0800
TZOFFSETTO:-0900
END:STANDARD
BEGIN:DAYLIGHT
DTSTART:20180311T020000Z
TZOFFSETFROM:-0900
TZOFFSETTO:-0800
END:DAYLIGHT
END:VTIMEZONE
BEGIN:VTIMEZONE
TZID:UTC
BEGIN:STANDARD
DTSTART:20250725T115909Z
TZOFFSETFROM:+0000
TZOFFSETTO:+0000
END:STANDARD
END:VTIMEZONE
BEGIN:VEVENT
UID:1261-118
DTSTAMP:20260421T115909Z
SUMMARY:Board of Directors Monthly Meeting
LOCATION:
ORGANIZER;CN=Derotha Ferraro:MAILTO:dbf@sphosp.org
RRULE:FREQ=MONTHLY;BYDAY=4WE;COUNT=20
DTSTART;TZID=America/Anchorage:20171121T190000
DTEND;TZID=America/Anchorage:20171121T210000
X-ALT-DESC;FMTTYPE=TEXT/HTML:The monthly meeting of the South Peninsula Hos
 pital\, Inc. Board of Directors is open to the public.  Public comment is
  welcome at the beginning and end of each meeting.
CATEGORIES:Community Event
URL;VALUE=URI:https://www.sphosp.org/mc-events/board-of-directors-monthly-m
 eeting/?mc_id=1261
METHOD:PUBLISH
END:VEVENT
END:VCALENDAR