BEGIN:VCALENDAR
VERSION:2.0
PRODID:spatie/icalendar-generator
DESCRIPTION:Events from South Peninsula Hospital
X-WR-CALDESC:Events from South Peninsula Hospital
REFRESH-INTERVAL;VALUE=DURATION:PT1440M
X-PUBLISHED-TTL:PT1440M
BEGIN:VTIMEZONE
TZID:America/Anchorage
BEGIN:STANDARD
DTSTART:20151101T020000Z
TZOFFSETFROM:-0800
TZOFFSETTO:-0900
END:STANDARD
BEGIN:DAYLIGHT
DTSTART:20160313T020000Z
TZOFFSETFROM:-0900
TZOFFSETTO:-0800
END:DAYLIGHT
END:VTIMEZONE
BEGIN:VTIMEZONE
TZID:UTC
BEGIN:STANDARD
DTSTART:20250726T191736Z
TZOFFSETFROM:+0000
TZOFFSETTO:+0000
END:STANDARD
END:VTIMEZONE
BEGIN:VEVENT
UID:1262-119
DTSTAMP:20260422T191736Z
SUMMARY:Community Feedback Session on KPB Healthcare Study
LOCATION:
ORGANIZER;CN=Derotha Ferraro:MAILTO:dbf@sphosp.org
DTSTART;TZID=America/Anchorage:20160329T123000
DTEND;TZID=America/Anchorage:20160329T140000
X-ALT-DESC;FMTTYPE=TEXT/HTML:A representative from Stroudwater Associates\,
  the consultant hired by the Kenai Peninsula Borough’s Healthcare Task F
 orce to conduct a healthcare study for the borough\, will discuss some pre
 liminary options identified in their work on Tuesday\, March 29 from 12:30
  – 2:00pm at City of Homer Council Chambers.  After a short presentatio
 n\, the consultant will lead&amp;hellip\;
CATEGORIES:Community Event
URL;VALUE=URI:https://www.sphosp.org/mc-events/community-feedback-session-o
 n-kpb-healthcare-study/
METHOD:PUBLISH
END:VEVENT
END:VCALENDAR