BEGIN:VCALENDAR
VERSION:2.0
PRODID:spatie/icalendar-generator
DESCRIPTION:Events from South Peninsula Hospital
X-WR-CALDESC:Events from South Peninsula Hospital
REFRESH-INTERVAL;VALUE=DURATION:PT1440M
X-PUBLISHED-TTL:PT1440M
BEGIN:VTIMEZONE
TZID:America/Anchorage
BEGIN:DAYLIGHT
DTSTART:20160313T020000Z
TZOFFSETFROM:-0900
TZOFFSETTO:-0800
END:DAYLIGHT
BEGIN:STANDARD
DTSTART:20161106T020000Z
TZOFFSETFROM:-0800
TZOFFSETTO:-0900
END:STANDARD
END:VTIMEZONE
BEGIN:VTIMEZONE
TZID:UTC
BEGIN:STANDARD
DTSTART:20250726T103131Z
TZOFFSETFROM:+0000
TZOFFSETTO:+0000
END:STANDARD
END:VTIMEZONE
BEGIN:VEVENT
UID:1267-124
DTSTAMP:20260422T103131Z
SUMMARY:Kenai Peninsula Fair - Senior Day
LOCATION:
ORGANIZER;CN=Tundra Technologies:MAILTO:tom@tundratech.net
DTSTART;TZID=America/Anchorage:20160821T110000
DTEND;TZID=America/Anchorage:20160821T170000
X-ALT-DESC;FMTTYPE=TEXT/HTML:Be the MVP on Your Healthcare Team! Visit the 
 South Peninsula Hospital booth on Senior Day at the Kenai Peninsula Fair f
 or tips on being an active player on your Healthcare Team. Receive a free 
 medical journal and magnifying glass\, and enter our drawing! We look forw
 ard to seeing you at the Fair! Sunday 11&amp;hellip\;
CATEGORIES:Community Event
URL;VALUE=URI:https://www.sphosp.org/mc-events/kenai-peninsula-fair-senior-
 day/
METHOD:PUBLISH
END:VEVENT
END:VCALENDAR