BEGIN:VCALENDAR
VERSION:2.0
PRODID:spatie/icalendar-generator
DESCRIPTION:Events from South Peninsula Hospital
X-WR-CALDESC:Events from South Peninsula Hospital
REFRESH-INTERVAL;VALUE=DURATION:PT1440M
X-PUBLISHED-TTL:PT1440M
BEGIN:VTIMEZONE
TZID:America/Anchorage
BEGIN:DAYLIGHT
DTSTART:20160313T020000Z
TZOFFSETFROM:-0900
TZOFFSETTO:-0800
END:DAYLIGHT
BEGIN:STANDARD
DTSTART:20161106T020000Z
TZOFFSETFROM:-0800
TZOFFSETTO:-0900
END:STANDARD
BEGIN:DAYLIGHT
DTSTART:20170312T020000Z
TZOFFSETFROM:-0900
TZOFFSETTO:-0800
END:DAYLIGHT
END:VTIMEZONE
BEGIN:VTIMEZONE
TZID:UTC
BEGIN:STANDARD
DTSTART:20250724T074133Z
TZOFFSETFROM:+0000
TZOFFSETTO:+0000
END:STANDARD
END:VTIMEZONE
BEGIN:VEVENT
UID:1268-125
DTSTAMP:20260420T074133Z
SUMMARY:Stress Reduction &amp;amp\; the Mindful Brain: Practical Tools for Prov
 iders &amp;amp\; Caregivers
LOCATION:
ORGANIZER;CN=Tundra Technologies:MAILTO:tom@tundratech.net
DTSTART;TZID=America/Anchorage:20160919T173000
DTEND;TZID=America/Anchorage:20160919T193000
X-ALT-DESC;FMTTYPE=TEXT/HTML:Stress Reduction &amp;amp\; the Mindful Brain: Pra
 ctical Tools for Providers &amp;amp\; Caregivers - Mini-workshop open to all. 
 Food provided. Event by donation. 2 CNE hours available for RNs. A Week of
  Mindfulness Community Events in Homer - Flyer Call 235-0285 for more info
 rmation.
CATEGORIES:Community Event
URL;VALUE=URI:https://www.sphosp.org/mc-events/stress-reduction-the-mindful
 -brain-practical-tools-for-providers-caregivers/
METHOD:PUBLISH
END:VEVENT
END:VCALENDAR